BEGIN:VCALENDAR
PRODID:NingEventWidget-v1
VERSION:2.0
METHOD:PUBLISH
BEGIN:VTIMEZONE
TZID:America/Los_Angeles
X-LIC-LOCATION:America/Los_Angeles
BEGIN:DAYLIGHT
TZOFFSETFROM:-0800
TZOFFSETTO:-0700
TZNAME:PDT
DTSTART:19700308T020000
RRULE:FREQ=YEARLY;BYMONTH=3;BYDAY=2SU
END:DAYLIGHT
BEGIN:STANDARD
TZOFFSETFROM:-0700
TZOFFSETTO:-0800
TZNAME:PST
DTSTART:19701101T020000
RRULE:FREQ=YEARLY;BYMONTH=11;BYDAY=1SU
END:STANDARD
END:VTIMEZONE
BEGIN:VEVENT
UID:1464587:Event:37199
DTSTAMP:20260421T034417Z
SUMMARY:We All We Got: Independent Artist Showcase
DESCRIPTION:Inhouse Talent’s WE ALL WE GOT gives a platform for Bay 
 Area Emerging Artists\n\nWe All We Got\nThe Blue Macaw, 2565 Mission S
 t, San Francisco, CA\nThursday August 27, 2009\nSellassie myspace.com/
 sellassie\nJ.Lately myspace.com/justlately\nLil Paris & Strong myspace
 .com/lilparismusic; myspace.com/strong510\nMs. White myspace.com/47816
 3607\nLady Doe myspace.com/ladydoe100\nOpey myspace.com/opeythapoet\nC
 io Castaneda myspace.com/ciocastandea\nFelony Funk myspace.com/felonyf
 unk\n\n9:00pm//$10//21+\n\nFor more information visit https://trueskoo
 l.com/events/we-all-we-got-independent-2
DTSTART;TZID=America/Los_Angeles:20090827T210000
DTEND;TZID=America/Los_Angeles:20090828T020000
CATEGORIES:live, music, hip, hop
LOCATION:The Blue Macaw, San Francisco, CA
WEBSITE:
URL:
CONTACT:
ORGANIZER;CN="Inhouse Talent":https://trueskool.com/profile/InhouseTal
 ent
ATTACH;FMTTYPE="image/jpeg":http://storage.ning.com/topology/rest/1.0/
 file/get/2247862166?profile=original
ATTENDEE;ROLE=REQ-PARTICIPANT;PARTSTAT=ACCEPTED;RSVP=TRUE;CN="Inhouse 
 Talent":https://trueskool.com/profile/InhouseTalent
END:VEVENT
END:VCALENDAR
