BEGIN:VCALENDAR
PRODID:NingEventWidget-v1
VERSION:2.0
METHOD:PUBLISH
BEGIN:VTIMEZONE
TZID:America/Los_Angeles
X-LIC-LOCATION:America/Los_Angeles
BEGIN:DAYLIGHT
TZOFFSETFROM:-0800
TZOFFSETTO:-0700
TZNAME:PDT
DTSTART:19700308T020000
RRULE:FREQ=YEARLY;BYMONTH=3;BYDAY=2SU
END:DAYLIGHT
BEGIN:STANDARD
TZOFFSETFROM:-0700
TZOFFSETTO:-0800
TZNAME:PST
DTSTART:19701101T020000
RRULE:FREQ=YEARLY;BYMONTH=11;BYDAY=1SU
END:STANDARD
END:VTIMEZONE
BEGIN:VEVENT
UID:1464587:Event:71299
DTSTAMP:20260420T212000Z
SUMMARY:WE ALL WE GOT at the NEW PARISH
DESCRIPTION:Inhouse Talent Presents\nWe All We Got\nIndependent Hip Ho
 p Artist Showcase\nHosted by Sellassie\nThe New Parish\n579 18th St, O
 akland, CA\nWednesday December 1, 2010\n8:30pm/$10/18+\nSellassie: www
 .sellassiefrisco.com\nState of Mind Committee: www. Myspace.com/sommov
 ement\nTemujinn: www.myspace.com/temujinn\nWarClique: www.myspace.com/
 warclique\nDivine: http://www.facebook.com/pages/DIVINE-bILLION-dOLLa-
 mOb/118342404867304\nJ Drew and JusRoul ProduKtions: www.twitter.com/j
 drewmusic + www.youtube.com/jdrewtv\nProlyphic Records: www.prolyphicr
 ecords.com\nJibba “the Gent”¨ www.reverbnation.com/jibbathegent\n
 Laylay: www.Myspace.com/itzlaylay\nUnrivaled:\n\n———————
 ————–————————————-\nWith a Special 1
 8+ edition, WE ALL WE GOT hits The New Parish in uptown, Oakland on De
 cember 1, 2010. Presented by Inhouse Talent and hosted by Revolutionar
 y Poet Sellassie, WE ALL WE GOT is an independent artist showcase desi
 gned to expose interesting and determined emerging artists, cultivate 
 relationships, and build community. The series is creating a movement 
 where upcoming artists can gain exposure and experience and perform al
 ongside legendary artists. WE ALL WE GOT is a place to discover some n
 ew music you just might like and mightn’t hear elsewhere.\n\nWE ALL 
 WE GOT host Sellassie is shining as a leading progressive voice in S.F
 . Bay Hip Hop. With an acclaimed debut release, I’m Tryin’ to Make
  a Livin’ Not a Killin’, and a new follow-up album, Sins of Your F
 orefathers, he is carving his niche in Hip Hop. Although inspired and 
 motivated from reading hundreds of books, Sellassie is self-taught and
  came up on the streets. Sellassie’s lyric is rooted in a deep compr
 ehension of the world around him. He writes on domestic and world poli
 tics, international relations and community needs, corporate thuggery 
 and the obstacles independent artists face. He has seen first hand the
  problems that his music addresses. He has seen black on black crime, 
 he has lost many close friends to homicide, he has seen the drugs and 
 money destroy his community, he has witnessed the decay of Independent
  Bay Hip Hop. In addition to the new record, Sellassie is building thi
 s revolutionary show series WE ALL WE GOT, is working with many social
 , political and youth based initiatives, and is a contributor to vario
 us special projects including Emcees for Peace’s The Matter That Mat
 ters CD and the film, “It Doesn’t Cost Nothin’ to Dream.“\n\nP
 roudly Sponsored by Reverb Nation, Fusicology and the Hip Hop Congress
 .\n\nPress Contact:\nGina Gallo\ngina@inhousetalent.com\nMedia Passes,
  Interviews and Promo Packages Available\n\n# # #\nInhouse Talent is a
  San Francisco-based artist management and events production company a
 imed to motivate and inspire thru un compromised, progressive, indepen
 dent music and art.\n\nFor more information visit https://trueskool.co
 m/events/we-all-we-got-at-the-new
DTSTART;TZID=America/Los_Angeles:20101201T203000
DTEND;TZID=America/Los_Angeles:20101202T020000
CATEGORIES:oakland, sf, san, francisco, bay, area
LOCATION:The New Parish
WEBSITE:http://www.sellassiefrisco.com
URL:http://www.sellassiefrisco.com
CONTACT:
ORGANIZER;CN="Inhouse Talent":https://trueskool.com/profile/InhouseTal
 ent
ATTACH;FMTTYPE="image/jpeg":http://storage.ning.com/topology/rest/1.0/
 file/get/2247888663?profile=original
ATTENDEE;ROLE=REQ-PARTICIPANT;PARTSTAT=ACCEPTED;RSVP=TRUE;CN="Inhouse 
 Talent":https://trueskool.com/profile/InhouseTalent
END:VEVENT
END:VCALENDAR
