BEGIN:VCALENDAR
PRODID:NingEventWidget-v1
VERSION:2.0
METHOD:PUBLISH
BEGIN:VTIMEZONE
TZID:America/Los_Angeles
X-LIC-LOCATION:America/Los_Angeles
BEGIN:DAYLIGHT
TZOFFSETFROM:-0800
TZOFFSETTO:-0700
TZNAME:PDT
DTSTART:19700308T020000
RRULE:FREQ=YEARLY;BYMONTH=3;BYDAY=2SU
END:DAYLIGHT
BEGIN:STANDARD
TZOFFSETFROM:-0700
TZOFFSETTO:-0800
TZNAME:PST
DTSTART:19701101T020000
RRULE:FREQ=YEARLY;BYMONTH=11;BYDAY=1SU
END:STANDARD
END:VTIMEZONE
BEGIN:VEVENT
UID:1464587:Event:663544
DTSTAMP:20260421T033051Z
SUMMARY:Wax Poetic with Large Professor
DESCRIPTION:Wax Poetic is a gathering of good people who love good mus
 ic and day parties that go into the night. Selections from the new mus
 ic crates in Pep Love, DJ SPREAD, DJ Toure and Dion Decibels collectio
 ns and a special set from Queens, New York legendary Golden Era rap re
 cording artist\producer (Main Source, Nas, A Tribe Called Quest, The B
 eatnuts) Large Professor! There will be an additional feature set from
  Smart Bomb specialist Mophono, plus delicious drinks, smoking lounge,
  $2 tacos from Quelite food truck and a vinyl pop-up shop hosted by E
 conojam Records! \nIf you love hip hop, this is the place to be. If y
 ou love soul and jazz this is the place to be. If you love afrobeat an
 d music from around the world this the place to be. This is the beginn
 ing of a hip hop movement for the world class music lovers right here 
 in Oakland. Join us!\nSpecial set from Large Professor! Arrive early!\
 nWax Poetic DJs rocking into the evening\nSunday | July 2nd | Hiero HQ
  | Oakland\nLive DJs | New | Underground | Hip Hop |\nSoul Jazz | Afro
 beat | Good Vibes | Lounge | Vinyl Shop\n\nFor more information visit 
 https://trueskool.com/events/wax-poetic-with-large-professor
DTSTART;TZID=America/Los_Angeles:20170702T140000
DTEND;TZID=America/Los_Angeles:20170702T190000
CATEGORIES:"hiero hq", "wax poetic", oakland, "new hip hop", obscure, 
 "otha shit"
LOCATION:Hiero HQ, Oakland Ca
WEBSITE:https://www.eventbrite.com/e/wax-poetic-with-large-professor-t
 ickets-35595595384
URL:https://www.eventbrite.com/e/wax-poetic-with-large-professor-ticke
 ts-35595595384
CONTACT:
ORGANIZER;CN="Pep Love":https://trueskool.com/profile/PepLove
ATTACH;FMTTYPE="image/jpeg":http://storage.ning.com/topology/rest/1.0/
 file/get/2247998422?profile=original
ATTENDEE;ROLE=REQ-PARTICIPANT;PARTSTAT=ACCEPTED;RSVP=TRUE;CN="Enrico W
 atson":https://trueskool.com/profile/EnricoWatson
ATTENDEE;ROLE=REQ-PARTICIPANT;PARTSTAT=ACCEPTED;RSVP=TRUE;CN="Pep Love
 ":https://trueskool.com/profile/PepLove
END:VEVENT
END:VCALENDAR
