BEGIN:VCALENDAR
PRODID:NingEventWidget-v1
VERSION:2.0
METHOD:PUBLISH
BEGIN:VTIMEZONE
TZID:America/Los_Angeles
X-LIC-LOCATION:America/Los_Angeles
BEGIN:DAYLIGHT
TZOFFSETFROM:-0800
TZOFFSETTO:-0700
TZNAME:PDT
DTSTART:19700308T020000
RRULE:FREQ=YEARLY;BYMONTH=3;BYDAY=2SU
END:DAYLIGHT
BEGIN:STANDARD
TZOFFSETFROM:-0700
TZOFFSETTO:-0800
TZNAME:PST
DTSTART:19701101T020000
RRULE:FREQ=YEARLY;BYMONTH=11;BYDAY=1SU
END:STANDARD
END:VTIMEZONE
BEGIN:VEVENT
UID:1464587:Event:673709
DTSTAMP:20260423T150130Z
SUMMARY:Wax Poetic presents: Soundcloud Vs Bandcamp
DESCRIPTION:This time around Wax Poetic is delving into new independen
 t rap music from boom bap to trap and from conscious to crass. We're b
 ringing music discovery into the small hours of the night to the beaut
 iful space and sound system of Spirithaus Gallery for Oakland First Fr
 iday. Along with our regular staples of new rap, soul-jazz, Afrobeat a
 nd more; Spread and DJ Touré will be adding some ratchet into the mix
 .April 6th is a battle of the indie platforms: Soundcloud VS Bandcamp!
  What was once a pop culture meme and an internet joke will be coming 
 to real life as we bring the new music that exemplifies the typical so
 unds of the indie hip hop spectrum. When you hear your new favorite mu
 sic you will be able to see the track info in real time courtesy of th
 e Wax Poetic MixEmergency visual projection patch (created by DJ Hard 
 Rich). This gives all of our Wax Poetic music fanatics in attendance t
 he opportunity to find track info on the Wax Poetic led monitor near t
 he DJ booth and scan a QR code to take the music home with you. With d
 rinks, beats, community and technology to support the artists who brin
 g us together, Wax Poetic: Soundcloud vs. Bandcamp will be a truly uni
 que music sharing experience.\n\nFor more information visit https://tr
 ueskool.com/events/wax-poetic-presents-soundcloud-vs-bandcamp
DTSTART;TZID=America/Los_Angeles:20180406T210000
DTEND;TZID=America/Los_Angeles:20180407T020000
CATEGORIES:oakland, bay, area
LOCATION:Spirithaus Gallery, Oakland, Ca
WEBSITE:https://www.eventbrite.com/e/wax-poetic-presents-soundcloud-vs
 -bandcamp-tickets-44319161806
URL:https://www.eventbrite.com/e/wax-poetic-presents-soundcloud-vs-ban
 dcamp-tickets-44319161806
CONTACT:
ORGANIZER:Wax Poetic Hip Hop
ATTACH;FMTTYPE="image/jpeg":http://storage.ning.com/topology/rest/1.0/
 file/get/2248004938?profile=original
ATTENDEE;ROLE=REQ-PARTICIPANT;PARTSTAT=ACCEPTED;RSVP=TRUE;CN="Enrico W
 atson":https://trueskool.com/profile/EnricoWatson
ATTENDEE;ROLE=REQ-PARTICIPANT;PARTSTAT=ACCEPTED;RSVP=TRUE;CN="Pep Love
 ":https://trueskool.com/profile/PepLove
END:VEVENT
END:VCALENDAR
