BEGIN:VCALENDAR
PRODID:NingEventWidget-v1
VERSION:2.0
METHOD:PUBLISH
BEGIN:VTIMEZONE
TZID:America/Los_Angeles
X-LIC-LOCATION:America/Los_Angeles
BEGIN:DAYLIGHT
TZOFFSETFROM:-0800
TZOFFSETTO:-0700
TZNAME:PDT
DTSTART:19700308T020000
RRULE:FREQ=YEARLY;BYMONTH=3;BYDAY=2SU
END:DAYLIGHT
BEGIN:STANDARD
TZOFFSETFROM:-0700
TZOFFSETTO:-0800
TZNAME:PST
DTSTART:19701101T020000
RRULE:FREQ=YEARLY;BYMONTH=11;BYDAY=1SU
END:STANDARD
END:VTIMEZONE
BEGIN:VEVENT
UID:1464587:Event:666527
DTSTAMP:20260421T112856Z
SUMMARY:Wax Poetic Day Party featuring First Light (Pep Love x Opio)
DESCRIPTION:DESCRIPTION\nThis time around WAX POETIC will be blessed w
 ith a live performance from Hiero's own Pep Love and Opio aka First Li
 ght!! WAX POETIC is a unique day party experience for music lovers hap
 pening every month inside the Hiero Warehouse! The best new hip hop, s
 oul, jazz and Afrobeat from resident DJs Touré, Spread, and Dion Deci
 bels with special performances from some of the greatest talents in hi
 p hop. Past WAX POETIC day parties have featured NY's Large Professor,
  emcee Melina Jones, a pop-up vinyl shop from EconoJam, and more. Plus
  delicious drinks, indoor smoking lounge, and $2 tacos from Quelite fo
 od truck!\nLimited capacity so don't sleep! 21+ with ID\n\n\n\n\nFor m
 ore information visit https://trueskool.com/events/wax-poetic-day-part
 y-featuring-first-light-pep-love-x-opio
DTSTART;TZID=America/Los_Angeles:20170910T140000
DTEND;TZID=America/Los_Angeles:20170910T190000
CATEGORIES:"hiero hq", "5001 e. 12th st.", "oakland ca"
LOCATION:OAKLAND
WEBSITE:https://www.eventbrite.com/e/wax-poetic-day-party-tickets-3725
 7773002
URL:https://www.eventbrite.com/e/wax-poetic-day-party-tickets-37257773
 002
CONTACT:
ORGANIZER;CN="Pep Love":https://trueskool.com/profile/PepLove
ATTACH;FMTTYPE="image/jpeg":http://storage.ning.com/topology/rest/1.0/
 file/get/2248000964?profile=original
ATTENDEE;ROLE=REQ-PARTICIPANT;PARTSTAT=ACCEPTED;RSVP=TRUE;CN="Pep Love
 ":https://trueskool.com/profile/PepLove
END:VEVENT
END:VCALENDAR
