BEGIN:VCALENDAR
PRODID:NingEventWidget-v1
VERSION:2.0
METHOD:PUBLISH
BEGIN:VTIMEZONE
TZID:America/Los_Angeles
X-LIC-LOCATION:America/Los_Angeles
BEGIN:DAYLIGHT
TZOFFSETFROM:-0800
TZOFFSETTO:-0700
TZNAME:PDT
DTSTART:19700308T020000
RRULE:FREQ=YEARLY;BYMONTH=3;BYDAY=2SU
END:DAYLIGHT
BEGIN:STANDARD
TZOFFSETFROM:-0700
TZOFFSETTO:-0800
TZNAME:PST
DTSTART:19701101T020000
RRULE:FREQ=YEARLY;BYMONTH=11;BYDAY=1SU
END:STANDARD
END:VTIMEZONE
BEGIN:VEVENT
UID:1464587:Event:404672
DTSTAMP:20260421T003948Z
SUMMARY:Watsky All You Can Do Tour w/ Special Guests Kyle and Anderson
  .Paak
DESCRIPTION: Friday-Saturday, November 28-29\nGoldenvoice Presents\nWa
 tsky\nAll You Can Do Tour\nplus Special Guests Anderson.Paak & Creme F
 raiche\nw/ Kyle and Parker (Dumbfounded)\n(11/28) w/ Grieves & Kate Na
 sh (11/29)\n\n\n\nThe Regency Ballroom, San Francisco, CA Show time: 8
 :00pm. Door time: 7:00pm.\nAge: All Ages+\n>> BUY TICKETS\n\n\n\nFor m
 ore information visit https://trueskool.com/events/watsky-all-you-can-
 do-tour-w-special-guests-kyle-and-anderson-paa
DTSTART;TZID=America/Los_Angeles:20141128T190000
DTEND;TZID=America/Los_Angeles:20141129T230000
CATEGORIES:"bay area", "san francisco"
LOCATION:Regency Ballroom, San Francisco
WEBSITE:http://www.axs.com/events/252575/watsky-tickets?skin=goldenvoi
 ce
URL:http://www.axs.com/events/252575/watsky-tickets?skin=goldenvoice
CONTACT:
ORGANIZER:Goldenvoice
ATTACH;FMTTYPE="image/jpeg":http://storage.ning.com/topology/rest/1.0/
 file/get/2247970449?profile=original
ATTENDEE;ROLE=REQ-PARTICIPANT;PARTSTAT=ACCEPTED;RSVP=TRUE;CN="Staff Pi
 ck":https://trueskool.com/profile/Ren
ATTENDEE;ROLE=REQ-PARTICIPANT;PARTSTAT=ACCEPTED;RSVP=TRUE;CN="Rhoberti
 no Regalado":https://trueskool.com/profile/RhobertinoRegalado
END:VEVENT
END:VCALENDAR
