BEGIN:VCALENDAR
PRODID:NingEventWidget-v1
VERSION:2.0
METHOD:PUBLISH
BEGIN:VTIMEZONE
TZID:America/Los_Angeles
X-LIC-LOCATION:America/Los_Angeles
BEGIN:DAYLIGHT
TZOFFSETFROM:-0800
TZOFFSETTO:-0700
TZNAME:PDT
DTSTART:19700308T020000
RRULE:FREQ=YEARLY;BYMONTH=3;BYDAY=2SU
END:DAYLIGHT
BEGIN:STANDARD
TZOFFSETFROM:-0700
TZOFFSETTO:-0800
TZNAME:PST
DTSTART:19701101T020000
RRULE:FREQ=YEARLY;BYMONTH=11;BYDAY=1SU
END:STANDARD
END:VTIMEZONE
BEGIN:VEVENT
UID:1464587:Event:65260
DTSTAMP:20260421T125412Z
SUMMARY:Warren G (WIN TICKETS)
DESCRIPTION:CLICK HERE TO WIN A PAIR OF TICKETS:\nhttp://www.trueskool
 .com/group/wintickets\n\n\nTHURSDAY, SEPTEMBER 16\nWARREN G\nWith cont
 ributions on Dr.Dre and Snoop Dogg’s seminal records as well as a ce
 rtified triple platinum first album and numerous successful follow-ups
 , Warren G comes to the Rockit Room with a vaste cache of music to ele
 ctrify the crowd with. Attending fans can expect to hear mega-hit, Reg
 ulators, along with This DJ, I Want It All, I Shot the Sherriff, Indo 
 Smoke, Groupie Love and a host of other classic g-funk laced west coas
 t anthems.\n\nw/\nMac Mall\nLunar Heights\n& DJ Sean G on the decks\nh
 osted by Flossafee\n\nat Rockit Room, 406 Clement St., SF\n9:00pm, 21+
 with ID\n$20 advance tickets available\nhttp://warrengrr.eventbrite.co
 m/\n \n\nFor more information visit https://trueskool.com/events/warre
 n-g-win-tickets-1
DTSTART;TZID=America/Los_Angeles:20100916T210000
DTEND;TZID=America/Los_Angeles:20100917T020000
CATEGORIES:san, francisco, ca
LOCATION:Rockit Room, San Francisco, CA
WEBSITE:http://warrengrr.eventbrite.com/
URL:http://warrengrr.eventbrite.com/
CONTACT:
ORGANIZER:Rockit Room & Tastemaker Live!
ATTACH;FMTTYPE="image/jpeg":http://storage.ning.com/topology/rest/1.0/
 file/get/2247866629?profile=original
ATTENDEE;ROLE=REQ-PARTICIPANT;PARTSTAT=ACCEPTED;RSVP=TRUE;CN=FLORDELIZ
 :https://trueskool.com/profile/FLORDELIZLAGPACAN
ATTENDEE;ROLE=REQ-PARTICIPANT;PARTSTAT=ACCEPTED;RSVP=TRUE;CN="Ren the 
 Vinyl Archaeologist":https://trueskool.com/profile/xh51jvilojur
END:VEVENT
END:VCALENDAR
