BEGIN:VCALENDAR
PRODID:NingEventWidget-v1
VERSION:2.0
METHOD:PUBLISH
BEGIN:VTIMEZONE
TZID:America/Los_Angeles
X-LIC-LOCATION:America/Los_Angeles
BEGIN:DAYLIGHT
TZOFFSETFROM:-0800
TZOFFSETTO:-0700
TZNAME:PDT
DTSTART:19700308T020000
RRULE:FREQ=YEARLY;BYMONTH=3;BYDAY=2SU
END:DAYLIGHT
BEGIN:STANDARD
TZOFFSETFROM:-0700
TZOFFSETTO:-0800
TZNAME:PST
DTSTART:19701101T020000
RRULE:FREQ=YEARLY;BYMONTH=11;BYDAY=1SU
END:STANDARD
END:VTIMEZONE
BEGIN:VEVENT
UID:1464587:Event:32699
DTSTAMP:20260421T160042Z
SUMMARY:Wale with UCB
DESCRIPTION:\nWale with UCB\n\nThe Independent\n628 Divisadero (btwn G
 rove & Hayes)\nSan Francisco CA 94117\ndoors 8:30PM\nshow 9:00PM\n\nFo
 r more information visit https://trueskool.com/events/wale-with-ucb
DTSTART;TZID=America/Los_Angeles:20090608T203000
DTEND;TZID=America/Los_Angeles:20090609T020000
CATEGORIES:hip, hop
LOCATION:The Independent, San Francisco
WEBSITE:http://www.apeconcerts.com/popArtist07.cfm?cID=1944
URL:http://www.apeconcerts.com/popArtist07.cfm?cID=1944
CONTACT:
ORGANIZER:Another Planet Entertainment
ATTACH;FMTTYPE="image/jpeg":http://storage.ning.com/topology/rest/1.0/
 file/get/2247866080?profile=original
ATTENDEE;ROLE=REQ-PARTICIPANT;PARTSTAT=ACCEPTED;RSVP=TRUE;CN="Ren the 
 Vinyl Archaeologist":https://trueskool.com/profile/xh51jvilojur
END:VEVENT
END:VCALENDAR
