BEGIN:VCALENDAR
PRODID:NingEventWidget-v1
VERSION:2.0
METHOD:PUBLISH
BEGIN:VTIMEZONE
TZID:America/Los_Angeles
X-LIC-LOCATION:America/Los_Angeles
BEGIN:DAYLIGHT
TZOFFSETFROM:-0800
TZOFFSETTO:-0700
TZNAME:PDT
DTSTART:19700308T020000
RRULE:FREQ=YEARLY;BYMONTH=3;BYDAY=2SU
END:DAYLIGHT
BEGIN:STANDARD
TZOFFSETFROM:-0700
TZOFFSETTO:-0800
TZNAME:PST
DTSTART:19701101T020000
RRULE:FREQ=YEARLY;BYMONTH=11;BYDAY=1SU
END:STANDARD
END:VTIMEZONE
BEGIN:VEVENT
UID:1464587:Event:690973
DTSTAMP:20260424T183804Z
SUMMARY:WALE
DESCRIPTION:Everything Is Fine Tour WALE\r\nThursday, October 24, 2019
  Doors: 8:30pm | Show: 9:00pm\r\nThis event is 21 and over.\r\n$27.00 
 – General Admission (Advance) $30.00 – General Admission (Door)\r\
 nMezzanine 444 Jessie St San Francisco 94103\n\nFor more information v
 isit https://trueskool.com/events/wale-3
DTSTART;TZID=America/Los_Angeles:20191024T210000
DTEND;TZID=America/Los_Angeles:20191024T233000
CATEGORIES:"bay area", oakland, "san francisco", "san jose", berkeley
LOCATION:Mezzanine, San Francisco
WEBSITE:https://www.ticketmaster.com/wale-san-francisco-california-10-
 24-2019/event/1C005705E3C24E62?camefrom=CFC_ANOTHERPLANET_web&amp;bran
 d=anotherplanet
URL:https://www.ticketmaster.com/wale-san-francisco-california-10-24-2
 019/event/1C005705E3C24E62?camefrom=CFC_ANOTHERPLANET_web&amp;brand=an
 otherplanet
CONTACT:
ORGANIZER;CN="Editor's Pick":https://trueskool.com/profile/RentheVinyl
 Archaeologist
ATTACH;FMTTYPE="image/jpeg":https://storage.ning.com/topology/rest/1.0
 /file/get/3553440839?profile=original
ATTENDEE;ROLE=REQ-PARTICIPANT;PARTSTAT=ACCEPTED;RSVP=TRUE;CN="Editor's
  Pick":https://trueskool.com/profile/RentheVinylArchaeologist
END:VEVENT
END:VCALENDAR
