BEGIN:VCALENDAR
PRODID:NingEventWidget-v1
VERSION:2.0
METHOD:PUBLISH
BEGIN:VTIMEZONE
TZID:America/Los_Angeles
X-LIC-LOCATION:America/Los_Angeles
BEGIN:DAYLIGHT
TZOFFSETFROM:-0800
TZOFFSETTO:-0700
TZNAME:PDT
DTSTART:19700308T020000
RRULE:FREQ=YEARLY;BYMONTH=3;BYDAY=2SU
END:DAYLIGHT
BEGIN:STANDARD
TZOFFSETFROM:-0700
TZOFFSETTO:-0800
TZNAME:PST
DTSTART:19701101T020000
RRULE:FREQ=YEARLY;BYMONTH=11;BYDAY=1SU
END:STANDARD
END:VTIMEZONE
BEGIN:VEVENT
UID:1464587:Event:508170
DTSTAMP:20260421T162358Z
SUMMARY:Wale (WIN TICKETS)
DESCRIPTION:\n Sunday, January 25, 2015 WALE: SIMPLE Mobile Simply Not
 hing Tour with Audio Push, Joe Moses, Bizzy\nThe Fillmore Doors at 7pm
 , Show at 8pm Buy Tickets\n\nFor more information visit https://truesk
 ool.com/events/wale-1
DTSTART;TZID=America/Los_Angeles:20150125T200000
DTEND;TZID=America/Los_Angeles:20150125T230000
CATEGORIES:"bay area", "san francisco"
LOCATION:The Fillmore
WEBSITE:http://www.ticketmaster.com/partner_redirect?v=cVvhZGP34W0yujO
 Vno-TyuTZeH9ySaBxtrdhPm5WxxKcifahX1J8OZsxlfSMnq0pSVBCJ6XPzlf7_BQAdqT0-
 wPYAeYTVr7zYMgvHQ5OCj1VhxreVOtUgHYt40zn3lgxiPxgWA&eventid=1C004D6CE7F2
 678A&artistid=1305959&artistname=WALE:%20SIMPLE%20Mobile%20Simply%20No
 thing%20Tour&crosssite=TM_US:1305959:229424&tm_link=browse_msg-0_1C004
 D6CE7F2678A
URL:http://www.ticketmaster.com/partner_redirect?v=cVvhZGP34W0yujOVno-
 TyuTZeH9ySaBxtrdhPm5WxxKcifahX1J8OZsxlfSMnq0pSVBCJ6XPzlf7_BQAdqT0-wPYA
 eYTVr7zYMgvHQ5OCj1VhxreVOtUgHYt40zn3lgxiPxgWA&eventid=1C004D6CE7F2678A
 &artistid=1305959&artistname=WALE:%20SIMPLE%20Mobile%20Simply%20Nothin
 g%20Tour&crosssite=TM_US:1305959:229424&tm_link=browse_msg-0_1C004D6CE
 7F2678A
CONTACT:
ORGANIZER:Live Nation
ATTACH;FMTTYPE="image/jpeg":http://storage.ning.com/topology/rest/1.0/
 file/get/2247971900?profile=original
ATTENDEE;ROLE=REQ-PARTICIPANT;PARTSTAT=ACCEPTED;RSVP=TRUE;CN="Elisa Bj
 eldanes":https://trueskool.com/profile/ElisaBjeldanes
ATTENDEE;ROLE=REQ-PARTICIPANT;PARTSTAT=ACCEPTED;RSVP=TRUE;CN="Mark Hen
 derson":https://trueskool.com/profile/MarkHenderson
ATTENDEE;ROLE=REQ-PARTICIPANT;PARTSTAT=ACCEPTED;RSVP=TRUE;CN="Christin
 a Davis":https://trueskool.com/profile/ChristinaDavis
ATTENDEE;ROLE=REQ-PARTICIPANT;PARTSTAT=ACCEPTED;RSVP=TRUE;CN="John Ngu
 yen":https://trueskool.com/profile/JohnNguyen
ATTENDEE;ROLE=REQ-PARTICIPANT;PARTSTAT=ACCEPTED;RSVP=TRUE;CN="Tamika D
  Landry":https://trueskool.com/profile/TamikaDLandry
ATTENDEE;ROLE=REQ-PARTICIPANT;PARTSTAT=ACCEPTED;RSVP=TRUE;CN="Donte Ha
 rrison":https://trueskool.com/profile/DonteHarrison
ATTENDEE;ROLE=REQ-PARTICIPANT;PARTSTAT=ACCEPTED;RSVP=TRUE;CN=Janeezy:h
 ttps://trueskool.com/profile/Janeezy
ATTENDEE;ROLE=REQ-PARTICIPANT;PARTSTAT=ACCEPTED;RSVP=TRUE;CN="Andrea M
 . Sarmiento":https://trueskool.com/profile/AndreaMSarmiento
ATTENDEE;ROLE=REQ-PARTICIPANT;PARTSTAT=ACCEPTED;RSVP=TRUE;CN="Johnny L
 iao":https://trueskool.com/profile/JohnnyLiao
ATTENDEE;ROLE=REQ-PARTICIPANT;PARTSTAT=ACCEPTED;RSVP=TRUE;CN="kelli ch
 inn":https://trueskool.com/profile/kellichinn30
ATTENDEE;ROLE=REQ-PARTICIPANT;PARTSTAT=ACCEPTED;RSVP=TRUE;CN="James Mi
 chael Federighi":https://trueskool.com/profile/JamesMichaelFederighi
ATTENDEE;ROLE=REQ-PARTICIPANT;PARTSTAT=ACCEPTED;RSVP=TRUE;CN="Editor's
  Pick":https://trueskool.com/profile/RentheVinylArchaeologist
ATTENDEE;ROLE=REQ-PARTICIPANT;PARTSTAT=ACCEPTED;RSVP=TRUE;CN=Goldensta
 teofmind:https://trueskool.com/profile/PhoebeJacinto
END:VEVENT
END:VCALENDAR
