BEGIN:VCALENDAR
PRODID:NingEventWidget-v1
VERSION:2.0
METHOD:PUBLISH
BEGIN:VTIMEZONE
TZID:America/Los_Angeles
X-LIC-LOCATION:America/Los_Angeles
BEGIN:DAYLIGHT
TZOFFSETFROM:-0800
TZOFFSETTO:-0700
TZNAME:PDT
DTSTART:19700308T020000
RRULE:FREQ=YEARLY;BYMONTH=3;BYDAY=2SU
END:DAYLIGHT
BEGIN:STANDARD
TZOFFSETFROM:-0700
TZOFFSETTO:-0800
TZNAME:PST
DTSTART:19701101T020000
RRULE:FREQ=YEARLY;BYMONTH=11;BYDAY=1SU
END:STANDARD
END:VTIMEZONE
BEGIN:VEVENT
UID:1464587:Event:53448
DTSTAMP:20260420T193414Z
SUMMARY:Wailing Souls
DESCRIPTION:Sunday April 18th\nWailing Souls & Prezident Brown\n\nRock
 it Room\n406 Clement Street, San Francisco, CA\n21+\ndoors at 9pm\ntic
 kets $15 adv $20 door\nBuy Tickets:\n\n\n \n\n\n\nFor more information
  visit https://trueskool.com/events/wailing-souls
DTSTART;TZID=America/Los_Angeles:20100418T210000
DTEND;TZID=America/Los_Angeles:20100419T020000
CATEGORIES:reggae
LOCATION:Rockit Room, San Francisco, CA
WEBSITE:http://rock-it-room.com/event_details.php?EventID=253
URL:http://rock-it-room.com/event_details.php?EventID=253
CONTACT:
ORGANIZER;CN="Editor's Pick":https://trueskool.com/profile/RentheVinyl
 Archaeologist
ATTACH;FMTTYPE="image/jpeg":http://storage.ning.com/topology/rest/1.0/
 file/get/2247877002?profile=original
ATTENDEE;ROLE=REQ-PARTICIPANT;PARTSTAT=ACCEPTED;RSVP=TRUE;CN="Editor's
  Pick":https://trueskool.com/profile/RentheVinylArchaeologist
END:VEVENT
END:VCALENDAR
