BEGIN:VCALENDAR
PRODID:NingEventWidget-v1
VERSION:2.0
METHOD:PUBLISH
BEGIN:VTIMEZONE
TZID:America/Los_Angeles
X-LIC-LOCATION:America/Los_Angeles
BEGIN:DAYLIGHT
TZOFFSETFROM:-0800
TZOFFSETTO:-0700
TZNAME:PDT
DTSTART:19700308T020000
RRULE:FREQ=YEARLY;BYMONTH=3;BYDAY=2SU
END:DAYLIGHT
BEGIN:STANDARD
TZOFFSETFROM:-0700
TZOFFSETTO:-0800
TZNAME:PST
DTSTART:19701101T020000
RRULE:FREQ=YEARLY;BYMONTH=11;BYDAY=1SU
END:STANDARD
END:VTIMEZONE
BEGIN:VEVENT
UID:1464587:Event:281970
DTSTAMP:20260421T065132Z
SUMMARY:Volunteers Needed @ 43rd Annual KPFA Crafts Fair
DESCRIPTION:Greetings All!\n \nThe KPFA Crafts Fair is coming up next
  week, December 13th, 14th, and 15th and is desperately seeking frie
 ndly and reliable volunteers!!!\n \nThe KPFA Crafts Fair is the lar
 gest weekend Holiday Crafts Fair in Northern California, showcasing ov
 er 200 professional artists who support themselves through their craft
 smanship and creativity.  The Fair features affordable art and crafts
 , presented in a warm-spirited atmosphere reflecting the Bay Area's gr
 eat diversity. \nThe KPFA Crafts Fair highlights the brightest talent
 s in contemporary art and craft, with both seasoned and emerging desig
 ners who produce one-of-a-kind, handmade and limited-edition goods in 
 a wide variety of media.\nTHIS EVENT TAKES PLACE AT THE CONCOURSE AT 8
 TH AND BRANNAN IN SAN FRANCISCO and it’s a great opportunity for yo
 u to attend as KPFA’s guest, in thanks for working a 3-hour shift at
  the Crafts Fair!\nOn Friday, December 13th we welcome assistance in s
 etting up, from 9 am to 9 pm. \nOn Saturday, December 14th we're sti
 ll looking for volunteers for the early shifts, which are 6:45am-9:45
 am and 9:45am-12:45pm.  \nOn Sunday, December 15th we need people t
 o sign up for the morning and evening shifts. Those shifts are from 8
 am-11am (opening) and 6-9pm (closing), respectively.\n \nIf you a
 re interested in volunteering please email Felix Lee at volunteer@kpf
 a.org and include the following information:\n•    Whether you 
 prefer a morning, afternoon or evening shift\n•    Which da
 y(s) you can work\n•    Preferred assignments\n•    The be
 st way to contact you\nYou can also reach me by phone, the volunteer n
 umber is 510-848-6767 ext. #629.\n \nMany thanks in advance,\n \nFel
 ix Lee\nCrafts Fair Volunteer Coordinator\n\n\nFor more information vi
 sit https://trueskool.com/events/volunteers-needed-43rd-annual-kpfa-cr
 afts-fair
DTSTART;TZID=America/Los_Angeles:20131207T000000
DTEND;TZID=America/Los_Angeles:20131215T235900
CATEGORIES:"bay area", "san francisco", soma
LOCATION:San Francisco
WEBSITE:http://www.kpfa.org/craftsfair/
URL:http://www.kpfa.org/craftsfair/
CONTACT:510-848-6767 ext. 629
ORGANIZER;CN="Felix Lee":https://trueskool.com/profile/FelixLee
ATTACH;FMTTYPE="image/jpeg":http://storage.ning.com/topology/rest/1.0/
 file/get/2247953183?profile=original
ATTENDEE;ROLE=REQ-PARTICIPANT;PARTSTAT=ACCEPTED;RSVP=TRUE;CN="Felix Le
 e":https://trueskool.com/profile/FelixLee
END:VEVENT
END:VCALENDAR
