BEGIN:VCALENDAR
PRODID:NingEventWidget-v1
VERSION:2.0
METHOD:PUBLISH
BEGIN:VTIMEZONE
TZID:America/Los_Angeles
X-LIC-LOCATION:America/Los_Angeles
BEGIN:DAYLIGHT
TZOFFSETFROM:-0800
TZOFFSETTO:-0700
TZNAME:PDT
DTSTART:19700308T020000
RRULE:FREQ=YEARLY;BYMONTH=3;BYDAY=2SU
END:DAYLIGHT
BEGIN:STANDARD
TZOFFSETFROM:-0700
TZOFFSETTO:-0800
TZNAME:PST
DTSTART:19701101T020000
RRULE:FREQ=YEARLY;BYMONTH=11;BYDAY=1SU
END:STANDARD
END:VTIMEZONE
BEGIN:VEVENT
UID:1464587:Event:26192
DTSTAMP:20260422T212942Z
SUMMARY:Vladimir Computin presents:
DESCRIPTION:Laser Blasters Set for Stun\nA gathering of hoodies, rapsc
 allions, raskolniks, and & forward-thinking denizens.\n\nWith Vladimir
  Computin, J. Tonal, Ben Maybe, The Flying Skulls and friends playing 
 Zapping Electro, Hip-hop, Rock, & original tracks to your face\n\nDoor
 s 4pm–2am / Music 9pm / 21 & up w/ID\n\nFor more information visit h
 ttps://trueskool.com/events/vladimir-computin-presents-1
DTSTART;TZID=America/Los_Angeles:20090204T210000
DTEND;TZID=America/Los_Angeles:20090205T020000
CATEGORIES:djs
LOCATION:Madrone Lounge
WEBSITE:http://www.madronelounge.com
URL:http://www.madronelounge.com
CONTACT:
ORGANIZER;CN=Nobody:https://trueskool.com/profile/MadroneLounge
ATTACH;FMTTYPE="image/jpeg":http://storage.ning.com/topology/rest/1.0/
 file/get/2247852975?profile=original
ATTENDEE;ROLE=REQ-PARTICIPANT;PARTSTAT=ACCEPTED;RSVP=TRUE;CN=Nobody:ht
 tps://trueskool.com/profile/MadroneLounge
END:VEVENT
END:VCALENDAR
