BEGIN:VCALENDAR
PRODID:NingEventWidget-v1
VERSION:2.0
METHOD:PUBLISH
BEGIN:VTIMEZONE
TZID:America/Los_Angeles
X-LIC-LOCATION:America/Los_Angeles
BEGIN:DAYLIGHT
TZOFFSETFROM:-0800
TZOFFSETTO:-0700
TZNAME:PDT
DTSTART:19700308T020000
RRULE:FREQ=YEARLY;BYMONTH=3;BYDAY=2SU
END:DAYLIGHT
BEGIN:STANDARD
TZOFFSETFROM:-0700
TZOFFSETTO:-0800
TZNAME:PST
DTSTART:19701101T020000
RRULE:FREQ=YEARLY;BYMONTH=11;BYDAY=1SU
END:STANDARD
END:VTIMEZONE
BEGIN:VEVENT
UID:1464587:Event:60443
DTSTAMP:20260420T230442Z
SUMMARY:Visions: The Stevie Wonder Songbook (Stanford Jazz Festival)
DESCRIPTION:Stevie Wonder is indubitably one of America's greatest pop
 ular composers. He has written hundreds of songs, including more than 
 30 top-ten hits. He's earned countless honors, including more Grammy a
 wards than any other male recording artist. He's even President Obama'
 s favorite musician. His songs are more than radio-friendly pop confec
 tions; they have the kind of rich harmonies and narrative forms that j
 azz improvisers love to play.\n\nStanford Jazz Workshop pianists Joe G
 ilman and Bennett Paster have both been deeply influenced by Stevie Wo
 nder's music, and each has a different perspective on these classic tu
 nes. Gilman's unique acoustic jazz trio arrangements put a contemporar
 y twist on many of Stevie's most beloved tunes with complex grooves an
 d spontaneous interplay, as heard on his albums View So Tender: Wonder
  Revisited Volumes 1 and 2.\n\nPaster draws upon his mastery of divers
 e musical styles, including modern jazz, rhythm and blues, and funk, t
 o create compelling contexts for his adventurous improvisations. Come 
 and celebrate the legacy of one of America's most beloved songwriters 
 with these two phenomenal pianists and a spectacular cast of Stanford 
 Jazz artists.\n\nFor more information visit https://trueskool.com/even
 ts/visions-the-stevie-wonder
DTSTART;TZID=America/Los_Angeles:20100729T190000
DTEND;TZID=America/Los_Angeles:20100729T233000
CATEGORIES:"r&b", old, school, funk, jazz, groove
LOCATION:Campbell Recital Hall/Braun Music Center, Stanford University
WEBSITE:http://stanfordjazz.org/jazzfestival/07_29.html
URL:http://stanfordjazz.org/jazzfestival/07_29.html
CONTACT:650 725-ARTS
ORGANIZER:Stanford Jazz Festival
ATTACH;FMTTYPE="image/jpeg":http://storage.ning.com/topology/rest/1.0/
 file/get/2247880619?profile=original
ATTENDEE;ROLE=REQ-PARTICIPANT;PARTSTAT=ACCEPTED;RSVP=TRUE;CN="Stanford
  Jazz Workshop":https://trueskool.com/profile/StanfordJazzWorkshop
END:VEVENT
END:VCALENDAR
