BEGIN:VCALENDAR
PRODID:NingEventWidget-v1
VERSION:2.0
METHOD:PUBLISH
BEGIN:VTIMEZONE
TZID:America/Los_Angeles
X-LIC-LOCATION:America/Los_Angeles
BEGIN:DAYLIGHT
TZOFFSETFROM:-0800
TZOFFSETTO:-0700
TZNAME:PDT
DTSTART:19700308T020000
RRULE:FREQ=YEARLY;BYMONTH=3;BYDAY=2SU
END:DAYLIGHT
BEGIN:STANDARD
TZOFFSETFROM:-0700
TZOFFSETTO:-0800
TZNAME:PST
DTSTART:19701101T020000
RRULE:FREQ=YEARLY;BYMONTH=11;BYDAY=1SU
END:STANDARD
END:VTIMEZONE
BEGIN:VEVENT
UID:1464587:Event:310056
DTSTAMP:20260421T023909Z
SUMMARY:Vinyl Affair w/ Mark Farina, Pezzner & Lurob
DESCRIPTION:\nFriday 2/14 Valentines Day Vinyl Affair w/ Mark Farina, 
 Pezzner & Lurob  Mighty is proud to present a \"Vinyl Affair\" with Ma
 rk Farina, Pezzner & Lurob. As the name might suggest, all djs will be
  playing strict vinyl pressings the entire night. Advance ticket's are
  now available.\nMARK FARINA  Great Lakes Audio | Mushroom Jazz | Dope
  Den | apt\nPEZZNER Systematic | Crosstown Rebels | apt\nLUROB Tango S
 F | apt\nMighty, 119 Utah St., San Francisco 10pm.  All shows at Might
 y are 21+ >> BUY TICKETS\nMark Farina BIO: Modern day record minstrel,
  Mark Farina, has thrilled crowds globally, entertaining over 1 millio
 n fans per year. As one of the most ubiquitous DJs in Dance Music, Far
 ina's known for both his unique style of mixing Jazz, Downtempo and Ho
 use Music as well as being the creator of Mushroom Jazz: West Coast ja
 zzy, organic productions combined with East Coast Hip-Hop, Urban beats
 .\nPezzner BIO: One listen and it's easy to see how Pezzner’s work s
 peaks to these inspirations. He walks his listeners through figurative
  landscapes of crowded restaurants, grassy fields, and busy streets, t
 aking them high into the air and deep into the water. ”I want to tel
 l a story with my music, take my listeners from one place to the next 
 and show them some things along the way.”\nLurob BIO: Lurob is a Pro
 ducer and DJ based out of San Francisco, CA. His creations and live pe
 rformance influences range from underground Hip-Hop to Samba and Funk,
  while his original works and DJ sets take listeners on journeys of Ho
 use and Techno stapled with the musical influences of his rich history
  that isn't lost on the dancer.\n21+\n\nFor more information visit htt
 ps://trueskool.com/events/vinyl-affair-w-mark-farina-pezzner-lurob
DTSTART;TZID=America/Los_Angeles:20140214T180000
DTEND;TZID=America/Los_Angeles:20140215T190000
CATEGORIES:"bay area", "san francisco"
LOCATION:Mighty, San Francisco
WEBSITE:http://www.eventbrite.com/e/vinyl-affair-w-mark-farina-pezzner
 -lurob-fri-214-tickets-10404296531
URL:http://www.eventbrite.com/e/vinyl-affair-w-mark-farina-pezzner-lur
 ob-fri-214-tickets-10404296531
CONTACT:
ORGANIZER:Mighty
ATTACH;FMTTYPE="image/jpeg":http://storage.ning.com/topology/rest/1.0/
 file/get/2247956679?profile=original
ATTENDEE;ROLE=REQ-PARTICIPANT;PARTSTAT=ACCEPTED;RSVP=TRUE;CN="m.deep.m
 usic":https://trueskool.com/profile/mdeepmusic
ATTENDEE;ROLE=REQ-PARTICIPANT;PARTSTAT=ACCEPTED;RSVP=TRUE;CN="Editor's
  Pick":https://trueskool.com/profile/RentheVinylArchaeologist
END:VEVENT
END:VCALENDAR
