BEGIN:VCALENDAR
PRODID:NingEventWidget-v1
VERSION:2.0
METHOD:PUBLISH
BEGIN:VTIMEZONE
TZID:America/Los_Angeles
X-LIC-LOCATION:America/Los_Angeles
BEGIN:DAYLIGHT
TZOFFSETFROM:-0800
TZOFFSETTO:-0700
TZNAME:PDT
DTSTART:19700308T020000
RRULE:FREQ=YEARLY;BYMONTH=3;BYDAY=2SU
END:DAYLIGHT
BEGIN:STANDARD
TZOFFSETFROM:-0700
TZOFFSETTO:-0800
TZNAME:PST
DTSTART:19701101T020000
RRULE:FREQ=YEARLY;BYMONTH=11;BYDAY=1SU
END:STANDARD
END:VTIMEZONE
BEGIN:VEVENT
UID:1464587:Event:306652
DTSTAMP:20260421T040723Z
SUMMARY:Vinyl Affair w/ Mark Farina, Pezzner & Lurob | FRI 2/14
DESCRIPTION:Valentines Day, Friday 2/14, 10pm.  Mighty is proud to pr
 esent a \"Vinyl Affair\" with Mark Farina, Pezzner & Lurob.  As the n
 ame might suggest, all djs will be playing strict vinyl pressings the 
 entire night. Advance ticket's are now available. All shows at Mighty 
 are 21+\nMARK FARINA \nGreat Lakes Audio | Mushroom Jazz | Dope Den 
 | apt\nPEZZNER\nSystematic | Crosstown Rebels | apt\nLUROB\nTango SF |
  apt\n \nMark Farina BIO: Modern day record minstrel, Mark Farina, h
 as thrilled crowds globally, entertaining over 1 million fans per year
 . As one of the most ubiquitous DJs in Dance Music, Farina's known for
  both his unique style of mixing Jazz, Downtempo and House Music as we
 ll as being the creator of Mushroom Jazz: West Coast jazzy, organic pr
 oductions combined with East Coast Hip-Hop, Urban beats.\nPezzner BIO:
  One listen and it's easy to see how Pezzner’s work speaks to these
  inspirations. He walks his listeners through figurative landscapes o
 f crowded restaurants, grassy fields, and busy streets, taking them hi
 gh into the air and deep into the water. ”I want to tell a story wit
 h my music, take my listeners from one place to the next and show them
  some things along the way.”\nLurob BIO: Lurob is a Producer and DJ
  based out of San Francisco, CA. His creations and live performance in
 fluences range from underground Hip-Hop to Samba and Funk, while his o
 riginal works and DJ sets take listeners on journeys of House and Tech
 no stapled with the musical influences of his rich history that isn't 
 lost on the dancer.\n\nFor more information visit https://trueskool.co
 m/events/vinyl-affair-w-mark-farina-pezzner-lurob-fri-2-14
DTSTART;TZID=America/Los_Angeles:20140214T220000
DTEND;TZID=America/Los_Angeles:20140215T030000
CATEGORIES:san, francisco, california
LOCATION:Mighty, San Francisco
WEBSITE:http://www.eventbrite.com/e/vinyl-affair-w-mark-farina-pezzner
 -lurob-fri-214-tickets-10404296531
URL:http://www.eventbrite.com/e/vinyl-affair-w-mark-farina-pezzner-lur
 ob-fri-214-tickets-10404296531
CONTACT:
ORGANIZER:Mighty
ATTACH;FMTTYPE="image/jpeg":http://storage.ning.com/topology/rest/1.0/
 file/get/2247960900?profile=original
ATTENDEE;ROLE=REQ-PARTICIPANT;PARTSTAT=ACCEPTED;RSVP=TRUE;CN="m.deep.m
 usic":https://trueskool.com/profile/mdeepmusic
ATTENDEE;ROLE=REQ-PARTICIPANT;PARTSTAT=ACCEPTED;RSVP=TRUE;CN="Alexandr
 a Alden":https://trueskool.com/profile/AlexandraAlden
END:VEVENT
END:VCALENDAR
