BEGIN:VCALENDAR
PRODID:NingEventWidget-v1
VERSION:2.0
METHOD:PUBLISH
BEGIN:VTIMEZONE
TZID:America/Los_Angeles
X-LIC-LOCATION:America/Los_Angeles
BEGIN:DAYLIGHT
TZOFFSETFROM:-0800
TZOFFSETTO:-0700
TZNAME:PDT
DTSTART:19700308T020000
RRULE:FREQ=YEARLY;BYMONTH=3;BYDAY=2SU
END:DAYLIGHT
BEGIN:STANDARD
TZOFFSETFROM:-0700
TZOFFSETTO:-0800
TZNAME:PST
DTSTART:19701101T020000
RRULE:FREQ=YEARLY;BYMONTH=11;BYDAY=1SU
END:STANDARD
END:VTIMEZONE
BEGIN:VEVENT
UID:1464587:Event:53862
DTSTAMP:20260420T180659Z
SUMMARY:VIBRANT
DESCRIPTION:FRIDAY APRIL 30THTH, 2010\n\nCITY CAT SOUND SYSTEM\nPRESEN
 TS\nTHE BAY AREA’S ORIGINAL\nLAST FRIDAY OF THE MONTH PARTY\n\n\n\nV
 IBRANT\n\n\nBRINGING TO YOU THE BEST IN:\n\nLOVERS ROCK\nREGGAE\nDANCE
  HALL\nSOCA\nAFRICAN\nSOUL\nR & B\n\nFeaturing 2 Rooms Of Entertainmen
 t:\n\nINDOOR LOUNGE:\nSOUL – SOCA - AFRICAN\n\nOUTDOOR DANCING & PAT
 IO AREA:\nROOTS – REGGAE – DANCEHALL\n\n\nDJ TOKS\nDJ HENROC\n+\nG
 UESTS\n\n21 & Over w/ I.D.\nCasual Attire,\nDOORS OPEN @ 10PM\n\n\nThe
  Oasis\n135 12th Street\nOakland, CA 94607\n\nFor more information vis
 it https://trueskool.com/events/vibrant-5
DTSTART;TZID=America/Los_Angeles:20100430T220000
DTEND;TZID=America/Los_Angeles:20100501T020000
CATEGORIES:roots, reggae, dancehall, remixes
LOCATION:The Oasis, Oakland, CA
WEBSITE:http://www.djhenroc.com
URL:http://www.djhenroc.com
CONTACT:
ORGANIZER;CN="DJ HENROC":https://trueskool.com/profile/DJHENROC
ATTACH;FMTTYPE="image/jpeg":http://storage.ning.com/topology/rest/1.0/
 file/get/2247852817?profile=original
ATTENDEE;ROLE=REQ-PARTICIPANT;PARTSTAT=ACCEPTED;RSVP=TRUE;CN="DJ HENRO
 C":https://trueskool.com/profile/DJHENROC
END:VEVENT
END:VCALENDAR
