BEGIN:VCALENDAR
PRODID:NingEventWidget-v1
VERSION:2.0
METHOD:PUBLISH
BEGIN:VTIMEZONE
TZID:America/Los_Angeles
X-LIC-LOCATION:America/Los_Angeles
BEGIN:DAYLIGHT
TZOFFSETFROM:-0800
TZOFFSETTO:-0700
TZNAME:PDT
DTSTART:19700308T020000
RRULE:FREQ=YEARLY;BYMONTH=3;BYDAY=2SU
END:DAYLIGHT
BEGIN:STANDARD
TZOFFSETFROM:-0700
TZOFFSETTO:-0800
TZNAME:PST
DTSTART:19701101T020000
RRULE:FREQ=YEARLY;BYMONTH=11;BYDAY=1SU
END:STANDARD
END:VTIMEZONE
BEGIN:VEVENT
UID:1464587:Event:31625
DTSTAMP:20260420T230139Z
SUMMARY:VIBRANT
DESCRIPTION:CITY CAT SOUND SYSTEM\nPRESENTS\nTHE BAY AREA’S ORIGINAL
 \nLAST FRIDAY OF THE MONTH PARTY\n\nBRINGING TO YOU THE BEST IN:\n\nLO
 VERS ROCK\nREGGAE\nDANCE HALL\nSOCA\nINTERNATIONAL\nAFRICAN\nSOUL\nR &
  B\n\nFeaturing 2 Rooms Of Entertainment:\n\nINDOOR LOUNGE:\nSOCA – 
 INTERNATIONAL - AFRICAN\n\nOUTDOOR DANCING & PATIO AREA:\nROOTS - LOVE
 RS – REGGAE – DANCEHALL\n\n\nDJ TOKS\nDJ HENROC\n+\nSPECIAL GUEST:
 \nDJ MPENZI\n\n\n\n\n21 & Over w/ I.D.\nCasual Attire,\nDOORS OPEN @ 1
 0PM\n\n\nThe Oasis\n135 12th Street\nOakland, CA 94607\n\nFor more inf
 ormation visit https://trueskool.com/events/vibrant-4
DTSTART;TZID=America/Los_Angeles:20090529T220000
DTEND;TZID=America/Los_Angeles:20090530T020000
CATEGORIES:reggae, dancehall, roots, soul, international
LOCATION:The Oasis, Oakland, CA
WEBSITE:http://www.djhenroc.com
URL:http://www.djhenroc.com
CONTACT:
ORGANIZER;CN="DJ HENROC":https://trueskool.com/profile/DJHENROC
ATTACH;FMTTYPE="image/jpeg":http://storage.ning.com/topology/rest/1.0/
 file/get/2247858180?profile=original
ATTENDEE;ROLE=REQ-PARTICIPANT;PARTSTAT=ACCEPTED;RSVP=TRUE;CN="DJ HENRO
 C":https://trueskool.com/profile/DJHENROC
END:VEVENT
END:VCALENDAR
