BEGIN:VCALENDAR
PRODID:NingEventWidget-v1
VERSION:2.0
METHOD:PUBLISH
BEGIN:VTIMEZONE
TZID:America/Los_Angeles
X-LIC-LOCATION:America/Los_Angeles
BEGIN:DAYLIGHT
TZOFFSETFROM:-0800
TZOFFSETTO:-0700
TZNAME:PDT
DTSTART:19700308T020000
RRULE:FREQ=YEARLY;BYMONTH=3;BYDAY=2SU
END:DAYLIGHT
BEGIN:STANDARD
TZOFFSETFROM:-0700
TZOFFSETTO:-0800
TZNAME:PST
DTSTART:19701101T020000
RRULE:FREQ=YEARLY;BYMONTH=11;BYDAY=1SU
END:STANDARD
END:VTIMEZONE
BEGIN:VEVENT
UID:1464587:Event:32842
DTSTAMP:20260422T081300Z
SUMMARY:Veni, Vidi, Vici
DESCRIPTION:ArtNowSF & Juxtapoz Present:\nVeni Vedi Veci\nJuxtapoz Iss
 ue Release Party\nHosted by Joey Gross\n\nShowing Art By:\nLex Mcquilk
 in\nRudy Rodriguez\nDjavan Santos\nSergio Lopez\nGomes De Souza\nRober
 t Harris\nJerimiah Welch\nEthen B Luce\n\nBassment:\nLazer Sword\nGhos
 t On Tape\nSleepyhead\nDJ Dials\n\nDark Room: Conscious Hip-Hop\nPlane
 t Asia\nSabac Red\nSoul Flower\nRevolution Of The Mind\nCobe Obeah\nBo
 otleg\n\nWhite Room: Fusion Fashion Show\nHosted By: Alchemtric Clothi
 ng\nDJ Kabelo\nDJ Paulo Presotto\nDJ Zezinho\nDJ Safado\nBrazilian Des
 igners\nLarissa Verdussen of Arara\nMaria Callou of Callou Designs\n\n
 Plus Live Brazilian Instruments & Dancers\n\nArtNow & Juxtapoz bring y
 ou Veni Vidi Vici a fashion Art & Music event for the masses. Limited 
 discounted presales available for $10. Door will be $15 before 11 and 
 $20 after. This is gonna be the last VVV til September so come check u
 s out before the break... See you there..\n\n\nPrice Limited $10 Presa
 le @ going.com\n$15 Door Before 11pm\n$20 After\nTime 9pm-4am\nMusic H
 ip-Hop\n\nFor more information visit https://trueskool.com/events/veni
 -vidi-vici-3
DTSTART;TZID=America/Los_Angeles:20090613T210000
DTEND;TZID=America/Los_Angeles:20090614T150000
CATEGORIES:hip, hop
LOCATION:Club six, San Francisco, CA
WEBSITE:http://www.clubsix1.com
URL:http://www.clubsix1.com
CONTACT:415-531-6593
ORGANIZER:Angel
ATTACH;FMTTYPE="image/jpeg":http://storage.ning.com/topology/rest/1.0/
 file/get/2247857506?profile=original
ATTENDEE;ROLE=REQ-PARTICIPANT;PARTSTAT=ACCEPTED;RSVP=TRUE;CN=Cecily:ht
 tps://trueskool.com/profile/Cecily
END:VEVENT
END:VCALENDAR
