BEGIN:VCALENDAR
PRODID:NingEventWidget-v1
VERSION:2.0
METHOD:PUBLISH
BEGIN:VTIMEZONE
TZID:America/Los_Angeles
X-LIC-LOCATION:America/Los_Angeles
BEGIN:DAYLIGHT
TZOFFSETFROM:-0800
TZOFFSETTO:-0700
TZNAME:PDT
DTSTART:19700308T020000
RRULE:FREQ=YEARLY;BYMONTH=3;BYDAY=2SU
END:DAYLIGHT
BEGIN:STANDARD
TZOFFSETFROM:-0700
TZOFFSETTO:-0800
TZNAME:PST
DTSTART:19701101T020000
RRULE:FREQ=YEARLY;BYMONTH=11;BYDAY=1SU
END:STANDARD
END:VTIMEZONE
BEGIN:VEVENT
UID:1464587:Event:672041
DTSTAMP:20260421T154908Z
SUMMARY:VALERIE TROUTT
DESCRIPTION:VALERIE TROUTT PRESENTS: BLACK GIRL MAGIC\r\nMon, February
  19, 2018 Doors: 7:30 PM / Show: 8:00 PM\r\nYoshi's Oakland Oakland, C
 A $19\n\nFor more information visit https://trueskool.com/events/valer
 ie-troutt-1
DTSTART;TZID=America/Los_Angeles:20180219T200000
DTEND;TZID=America/Los_Angeles:20180219T230000
CATEGORIES:"bay area", oakland, "san francisco", "san jose", berkeley
LOCATION:Yoshi's, Oakland
WEBSITE:https://www.ticketfly.com/purchase/event/1571635
URL:https://www.ticketfly.com/purchase/event/1571635
CONTACT:
ORGANIZER;CN="Editor's Pick":https://trueskool.com/profile/RentheVinyl
 Archaeologist
ATTACH;FMTTYPE="image/jpeg":http://storage.ning.com/topology/rest/1.0/
 file/get/2247992582?profile=original
ATTENDEE;ROLE=REQ-PARTICIPANT;PARTSTAT=ACCEPTED;RSVP=TRUE;CN="Editor's
  Pick":https://trueskool.com/profile/RentheVinylArchaeologist
END:VEVENT
END:VCALENDAR
