BEGIN:VCALENDAR
PRODID:NingEventWidget-v1
VERSION:2.0
METHOD:PUBLISH
BEGIN:VTIMEZONE
TZID:America/Los_Angeles
X-LIC-LOCATION:America/Los_Angeles
BEGIN:DAYLIGHT
TZOFFSETFROM:-0800
TZOFFSETTO:-0700
TZNAME:PDT
DTSTART:19700308T020000
RRULE:FREQ=YEARLY;BYMONTH=3;BYDAY=2SU
END:DAYLIGHT
BEGIN:STANDARD
TZOFFSETFROM:-0700
TZOFFSETTO:-0800
TZNAME:PST
DTSTART:19701101T020000
RRULE:FREQ=YEARLY;BYMONTH=11;BYDAY=1SU
END:STANDARD
END:VTIMEZONE
BEGIN:VEVENT
UID:1464587:Event:450535
DTSTAMP:20260421T003939Z
SUMMARY:V103 R&B & Old School Fest with the Isley Brothers, Keith Swea
 t & more [CHI]
DESCRIPTION:\n\nV103 R&B & Old School Fest with the Isley Brothers, Ke
 ith Sweat & more\n\n\n \n\n\nUIC PavilionChicago, IL\n\nSat, 11/29/1
 406:30 PM\n\n\n\n\n\nFor more information visit https://trueskool.com/
 events/v103-r-b-old-school-fest-with-the-isley-brothers-keith-sweat-mo
 re
DTSTART;TZID=America/Los_Angeles:20141129T180000
DTEND;TZID=America/Los_Angeles:20141129T210000
CATEGORIES:chicago
LOCATION:UIC Pavilion
WEBSITE:http://www.ticketmaster.com/v103-rb-old-school-fest-chicago-il
 linois-11-29-2014/event/04004D419A5F35EF?artistid=735343&majorcatid=10
 001&minorcatid=202&tm_link=browse_msg-0_04004D419A5F35EF
URL:http://www.ticketmaster.com/v103-rb-old-school-fest-chicago-illino
 is-11-29-2014/event/04004D419A5F35EF?artistid=735343&majorcatid=10001&
 minorcatid=202&tm_link=browse_msg-0_04004D419A5F35EF
CONTACT:
ORGANIZER;CN="Editor's Pick":https://trueskool.com/profile/RentheVinyl
 Archaeologist
ATTACH;FMTTYPE="image/jpeg":http://storage.ning.com/topology/rest/1.0/
 file/get/2247969083?profile=original
ATTENDEE;ROLE=REQ-PARTICIPANT;PARTSTAT=ACCEPTED;RSVP=TRUE;CN="Editor's
  Pick":https://trueskool.com/profile/RentheVinylArchaeologist
END:VEVENT
END:VCALENDAR
