BEGIN:VCALENDAR
PRODID:NingEventWidget-v1
VERSION:2.0
METHOD:PUBLISH
BEGIN:VTIMEZONE
TZID:America/Los_Angeles
X-LIC-LOCATION:America/Los_Angeles
BEGIN:DAYLIGHT
TZOFFSETFROM:-0800
TZOFFSETTO:-0700
TZNAME:PDT
DTSTART:19700308T020000
RRULE:FREQ=YEARLY;BYMONTH=3;BYDAY=2SU
END:DAYLIGHT
BEGIN:STANDARD
TZOFFSETFROM:-0700
TZOFFSETTO:-0800
TZNAME:PST
DTSTART:19701101T020000
RRULE:FREQ=YEARLY;BYMONTH=11;BYDAY=1SU
END:STANDARD
END:VTIMEZONE
BEGIN:VEVENT
UID:1464587:Event:69865
DTSTAMP:20260420T131305Z
SUMMARY:Urban Punk Launch Party @ the Craneway Pavilion
DESCRIPTION:\n\nDoors: 8:00 p.m. Show: 9:00 p.m.\n$10.00 in advance vi
 a Brown Paper Tickets\nDay of the Show: $12.00\nhttp://www.brownpapert
 ickets.com/event/125592\n\nUrban Punk Launch Party\nwith DJ Celskiii\n
 \nFor more information visit https://trueskool.com/events/urban-punk-l
 aunch-party-the
DTSTART;TZID=America/Los_Angeles:20101111T200000
DTEND;TZID=America/Los_Angeles:20101111T230000
CATEGORIES:richmond, ca
LOCATION:Craneway Pavilion
WEBSITE:http://www.facebook.com/event.php?eid=155689261118475&num_even
 t_invites=0
URL:http://www.facebook.com/event.php?eid=155689261118475&num_event_in
 vites=0
CONTACT:
ORGANIZER:Urban Punk
ATTACH;FMTTYPE="image/jpeg":http://storage.ning.com/topology/rest/1.0/
 file/get/2247885321?profile=original
ATTENDEE;ROLE=REQ-PARTICIPANT;PARTSTAT=ACCEPTED;RSVP=TRUE;CN="Kat O1O"
 :https://trueskool.com/profile/KatO1O
END:VEVENT
END:VCALENDAR
