BEGIN:VCALENDAR
PRODID:NingEventWidget-v1
VERSION:2.0
METHOD:PUBLISH
BEGIN:VTIMEZONE
TZID:America/Los_Angeles
X-LIC-LOCATION:America/Los_Angeles
BEGIN:DAYLIGHT
TZOFFSETFROM:-0800
TZOFFSETTO:-0700
TZNAME:PDT
DTSTART:19700308T020000
RRULE:FREQ=YEARLY;BYMONTH=3;BYDAY=2SU
END:DAYLIGHT
BEGIN:STANDARD
TZOFFSETFROM:-0700
TZOFFSETTO:-0800
TZNAME:PST
DTSTART:19701101T020000
RRULE:FREQ=YEARLY;BYMONTH=11;BYDAY=1SU
END:STANDARD
END:VTIMEZONE
BEGIN:VEVENT
UID:1464587:Event:32810
DTSTAMP:20260420T213046Z
SUMMARY:Upward Movin
DESCRIPTION:Club Six presents\n\nUpward Movin'\n\nLive Performances fr
 om Whogas, Hypnotice Vibrations featuring The Word\n\nSelections by DJ
  One Chance\n\nLive Painting by Chris Granillo\n\nArt & Clothing by El
 ephont Exchange, Lorenzo\n\n$5 b4 10:30pm, $10 after\n\nFor more infor
 mation visit https://trueskool.com/events/upward-movin
DTSTART;TZID=America/Los_Angeles:20090529T210000
DTEND;TZID=America/Los_Angeles:20090530T030000
CATEGORIES:hip, hop, house
LOCATION:Club Six, San Francisco, CA
WEBSITE:http://www.clubsix1.com
URL:http://www.clubsix1.com
CONTACT:415-531-6593
ORGANIZER:Angel
ATTACH;FMTTYPE="image/jpeg":http://storage.ning.com/topology/rest/1.0/
 file/get/2247857943?profile=original
ATTENDEE;ROLE=REQ-PARTICIPANT;PARTSTAT=ACCEPTED;RSVP=TRUE;CN=Cecily:ht
 tps://trueskool.com/profile/Cecily
END:VEVENT
END:VCALENDAR
