BEGIN:VCALENDAR
PRODID:NingEventWidget-v1
VERSION:2.0
METHOD:PUBLISH
BEGIN:VTIMEZONE
TZID:America/Los_Angeles
X-LIC-LOCATION:America/Los_Angeles
BEGIN:DAYLIGHT
TZOFFSETFROM:-0800
TZOFFSETTO:-0700
TZNAME:PDT
DTSTART:19700308T020000
RRULE:FREQ=YEARLY;BYMONTH=3;BYDAY=2SU
END:DAYLIGHT
BEGIN:STANDARD
TZOFFSETFROM:-0700
TZOFFSETTO:-0800
TZNAME:PST
DTSTART:19701101T020000
RRULE:FREQ=YEARLY;BYMONTH=11;BYDAY=1SU
END:STANDARD
END:VTIMEZONE
BEGIN:VEVENT
UID:1464587:Event:52818
DTSTAMP:20260420T225128Z
SUMMARY:UNI4RM Clothing Presents: Sensitive Thug 2nd Fridays
DESCRIPTION:UNI4RM Clothing Presents: Sensitive Thug 2nd Fridays\n\nAp
 ril 9th:\n\nGuest DJ: J. Boogie (OM Records)\n\nResident DJ: The Whool
 igan (OM Hip Hop)\n\nMay 14th:\n\nGuest DJ: Sake One ((Local 1200))\n\
 nResident DJ: The Whooligan (Om Hip Hop)\n\nGenre: Party Rockin' Hip H
 op, Soul, Funk, Dancehall, and Breaks.\n\nFree exclusive UNI4RM \"Hug 
 Life\" Shirt for the first 50 people @ the door. New Colorway every se
 cond friday. Size may vary.\n\nLive Art: By artists TBA\n\nCover:Free 
 Before 11pm/ $7 after\n\nRSVP for free entry before Midnight @ www.goi
 ng.com/sensitivethugApril9th\n\nDress code: dress how you like\n\nLoca
 tion: Club Six (In the Dark Room)\n\n60 Sixth St., SF.\n\nFor more inf
 ormation visit https://trueskool.com/events/uni4rm-clothing-presents
DTSTART;TZID=America/Los_Angeles:20100409T220000
DTEND;TZID=America/Los_Angeles:20100410T020000
CATEGORIES:hip, hop, soul, funk, dancehall, breaks
LOCATION:Club Six 60 Sixth St., SF.
WEBSITE:http://www.clubsix1.com
URL:http://www.clubsix1.com
CONTACT:
ORGANIZER;CN="Louie B":https://trueskool.com/profile/LouieB
ATTACH;FMTTYPE="image/jpeg":http://storage.ning.com/topology/rest/1.0/
 file/get/2247875248?profile=original
ATTENDEE;ROLE=REQ-PARTICIPANT;PARTSTAT=ACCEPTED;RSVP=TRUE;CN="Louie B"
 :https://trueskool.com/profile/LouieB
END:VEVENT
END:VCALENDAR
