BEGIN:VCALENDAR
PRODID:NingEventWidget-v1
VERSION:2.0
METHOD:PUBLISH
BEGIN:VTIMEZONE
TZID:America/Los_Angeles
X-LIC-LOCATION:America/Los_Angeles
BEGIN:DAYLIGHT
TZOFFSETFROM:-0800
TZOFFSETTO:-0700
TZNAME:PDT
DTSTART:19700308T020000
RRULE:FREQ=YEARLY;BYMONTH=3;BYDAY=2SU
END:DAYLIGHT
BEGIN:STANDARD
TZOFFSETFROM:-0700
TZOFFSETTO:-0800
TZNAME:PST
DTSTART:19701101T020000
RRULE:FREQ=YEARLY;BYMONTH=11;BYDAY=1SU
END:STANDARD
END:VTIMEZONE
BEGIN:VEVENT
UID:1464587:Event:466391
DTSTAMP:20260421T070247Z
SUMMARY:UNDIVIDED 5: San Francisco w/ Th3 Saga, Goodbrutha, Arize, IV 
 League
DESCRIPTION:UNDIVIDED 5: San Francisco, an admission-free concert that
  focuses on building diversity and unity to different communities thro
 ugh urban art.Performances:Th3 SagaTeam ZoeMission (of RPSMG)GoodBruth
 a CeoIV LeagueArizeCasperStueyWill BElieveHosted by Sarah WallickLine-
 Up Subject to Change*DJ Set by DJ Sticky 116Presented by:Lyrical Oppos
 itionArt Alive MovementHouse of Slap RadioKing's LoungerHISenFuel Inte
 rnationalFacebook Event Page: https://www.facebook.com/events/26921250
 3203143/RSVP for FREE at http://citylife.splashthat.com/Free Event, Do
 nations are welcome.\n\nFor more information visit https://trueskool.c
 om/events/undivided-5-san-francisco-w-th3-saga-goodbrutha-arize-iv-lea
 gue
DTSTART;TZID=America/Los_Angeles:20141115T180000
DTEND;TZID=America/Los_Angeles:20141115T210000
CATEGORIES:undivided, san, francisco, hiphop
LOCATION:CityLife Church
WEBSITE:http://citylife.splashthat.com
URL:http://citylife.splashthat.com
CONTACT:4242603650
ORGANIZER;CN="Lyrical Opposition":https://trueskool.com/profile/Lyrica
 lOpposition
ATTACH;FMTTYPE="image/jpeg":http://storage.ning.com/topology/rest/1.0/
 file/get/2247971733?profile=original
ATTENDEE;ROLE=REQ-PARTICIPANT;PARTSTAT=ACCEPTED;RSVP=TRUE;CN="Lyrical 
 Opposition":https://trueskool.com/profile/LyricalOpposition
END:VEVENT
END:VCALENDAR
