BEGIN:VCALENDAR
PRODID:NingEventWidget-v1
VERSION:2.0
METHOD:PUBLISH
BEGIN:VTIMEZONE
TZID:America/Los_Angeles
X-LIC-LOCATION:America/Los_Angeles
BEGIN:DAYLIGHT
TZOFFSETFROM:-0800
TZOFFSETTO:-0700
TZNAME:PDT
DTSTART:19700308T020000
RRULE:FREQ=YEARLY;BYMONTH=3;BYDAY=2SU
END:DAYLIGHT
BEGIN:STANDARD
TZOFFSETFROM:-0700
TZOFFSETTO:-0800
TZNAME:PST
DTSTART:19701101T020000
RRULE:FREQ=YEARLY;BYMONTH=11;BYDAY=1SU
END:STANDARD
END:VTIMEZONE
BEGIN:VEVENT
UID:1464587:Event:33220
DTSTAMP:20260421T093319Z
SUMMARY:?uestlove
DESCRIPTION:Ankh Marketing, UNGrammer & Sake One present\nDJ QUESTLOVE
 !!!\n\nSPINNING LIVE THIS SATURDAY NITE!!!\n\n@ 330 RITCH\n\nSATURDAY 
 MAY 30TH!!\n\n9:30PM DOORS ~ 21 & OVER\n\nPRE-SALE TICKETS AVAILABLE @
 \n\nWWW.GOING.COM/QuestLoveMay30\n\nFor more information visit https:/
 /trueskool.com/events/uestlove-1
DTSTART;TZID=America/Los_Angeles:20090530T220000
DTEND;TZID=America/Los_Angeles:20090531T020000
CATEGORIES:hip, hop, soul, funk
LOCATION:330 Ritch, San Francisco, CA
WEBSITE:http://WWW.GOING.COM/QuestLoveMay30
URL:http://WWW.GOING.COM/QuestLoveMay30
CONTACT:
ORGANIZER:Ankh Marketing, UNGrammer & Sake One
ATTACH;FMTTYPE="image/jpeg":http://storage.ning.com/topology/rest/1.0/
 file/get/2106898034?profile=original
ATTENDEE;ROLE=REQ-PARTICIPANT;PARTSTAT=ACCEPTED;RSVP=TRUE;CN="Ren the 
 Vinyl Archaeologist":https://trueskool.com/profile/xh51jvilojur
END:VEVENT
END:VCALENDAR
