BEGIN:VCALENDAR
PRODID:NingEventWidget-v1
VERSION:2.0
METHOD:PUBLISH
BEGIN:VTIMEZONE
TZID:America/Los_Angeles
X-LIC-LOCATION:America/Los_Angeles
BEGIN:DAYLIGHT
TZOFFSETFROM:-0800
TZOFFSETTO:-0700
TZNAME:PDT
DTSTART:19700308T020000
RRULE:FREQ=YEARLY;BYMONTH=3;BYDAY=2SU
END:DAYLIGHT
BEGIN:STANDARD
TZOFFSETFROM:-0700
TZOFFSETTO:-0800
TZNAME:PST
DTSTART:19701101T020000
RRULE:FREQ=YEARLY;BYMONTH=11;BYDAY=1SU
END:STANDARD
END:VTIMEZONE
BEGIN:VEVENT
UID:1464587:Event:314557
DTSTAMP:20260421T125413Z
SUMMARY:Tyler the Creator (Atlanta)
DESCRIPTION:\nTyler, the Creator\n\n\n\nThe Tabernacle Atlanta, GA 
 \n\n Fri,  03/21/1409:00 PM\n\n Find    Tickets »on  Live Nati
 on\n\n\n\n\n\nFor more information visit https://trueskool.com/events/
 tyler-the-creator-atlanta
DTSTART;TZID=America/Los_Angeles:20140321T210000
DTEND;TZID=America/Los_Angeles:20140321T230000
CATEGORIES:atlanta
LOCATION:The Tabernacle, ATL
WEBSITE:http://concerts.livenation.com/event/0E004C3FB44DA964?tm_link=
 browse_msg-0_0E004C3FB44DA964&crosssite=TM_US:1744607:115031
URL:http://concerts.livenation.com/event/0E004C3FB44DA964?tm_link=brow
 se_msg-0_0E004C3FB44DA964&crosssite=TM_US:1744607:115031
CONTACT:
ORGANIZER;CN="Editor's Pick":https://trueskool.com/profile/RentheVinyl
 Archaeologist
ATTACH;FMTTYPE="image/jpeg":http://storage.ning.com/topology/rest/1.0/
 file/get/2247949679?profile=original
ATTENDEE;ROLE=REQ-PARTICIPANT;PARTSTAT=ACCEPTED;RSVP=TRUE;CN="Editor's
  Pick":https://trueskool.com/profile/RentheVinylArchaeologist
END:VEVENT
END:VCALENDAR
