BEGIN:VCALENDAR
PRODID:NingEventWidget-v1
VERSION:2.0
METHOD:PUBLISH
BEGIN:VTIMEZONE
TZID:America/Los_Angeles
X-LIC-LOCATION:America/Los_Angeles
BEGIN:DAYLIGHT
TZOFFSETFROM:-0800
TZOFFSETTO:-0700
TZNAME:PDT
DTSTART:19700308T020000
RRULE:FREQ=YEARLY;BYMONTH=3;BYDAY=2SU
END:DAYLIGHT
BEGIN:STANDARD
TZOFFSETFROM:-0700
TZOFFSETTO:-0800
TZNAME:PST
DTSTART:19701101T020000
RRULE:FREQ=YEARLY;BYMONTH=11;BYDAY=1SU
END:STANDARD
END:VTIMEZONE
BEGIN:VEVENT
UID:1464587:Event:833084
DTSTAMP:20260421T141402Z
SUMMARY:Tyler, The Creator
DESCRIPTION:Tyler, The Creator\r\nMonday, Feb 24, 2025 | Doors at 6PM,
  Show at 7:30PM\r\nOakland Arena 7000 S Coliseum Way, Oakland, CA  946
 21\n\nFor more information visit https://trueskool.com/events/tyler-th
 e-creator-8
DTSTART;TZID=America/Los_Angeles:20250224T193000
DTEND;TZID=America/Los_Angeles:20250224T233000
CATEGORIES:"bay area", oakland, "san francisco", "san jose", berkeley
LOCATION:Oakland Arena, Oakland
WEBSITE:https://www.axs.com/events/728714/tyler-the-creator-tickets?sk
 in=goldenvoice
URL:https://www.axs.com/events/728714/tyler-the-creator-tickets?skin=g
 oldenvoice
CONTACT:
ORGANIZER;CN="Editor's Pick":https://trueskool.com/profile/RentheVinyl
 Archaeologist
ATTACH;FMTTYPE="image/jpeg":https://storage.ning.com/topology/rest/1.0
 /file/get/13123661296?profile=original
ATTENDEE;ROLE=REQ-PARTICIPANT;PARTSTAT=ACCEPTED;RSVP=TRUE;CN="Editor's
  Pick":https://trueskool.com/profile/RentheVinylArchaeologist
END:VEVENT
END:VCALENDAR
