BEGIN:VCALENDAR
PRODID:NingEventWidget-v1
VERSION:2.0
METHOD:PUBLISH
BEGIN:VTIMEZONE
TZID:America/Los_Angeles
X-LIC-LOCATION:America/Los_Angeles
BEGIN:DAYLIGHT
TZOFFSETFROM:-0800
TZOFFSETTO:-0700
TZNAME:PDT
DTSTART:19700308T020000
RRULE:FREQ=YEARLY;BYMONTH=3;BYDAY=2SU
END:DAYLIGHT
BEGIN:STANDARD
TZOFFSETFROM:-0700
TZOFFSETTO:-0800
TZNAME:PST
DTSTART:19701101T020000
RRULE:FREQ=YEARLY;BYMONTH=11;BYDAY=1SU
END:STANDARD
END:VTIMEZONE
BEGIN:VEVENT
UID:1464587:Event:671548
DTSTAMP:20260421T082945Z
SUMMARY:TYLER, THE CREATOR (NYC)
DESCRIPTION:TYLER, THE CREATOR\r\nFriday, February 23 2018 @ 7:30pm\r\
 nThe Theater at Madison Square Garden 4 Pennsylvania Plaza, New York, 
 NY 10001\n\nFor more information visit https://trueskool.com/events/ty
 ler-the-creator-4
DTSTART;TZID=America/Los_Angeles:20180223T193000
DTEND;TZID=America/Los_Angeles:20180223T230000
CATEGORIES:"new york", "new jersey", connecticut, tri-state, nyc
LOCATION:The Theater at Madison Square Garden, NYC
WEBSITE:https://www1.ticketmaster.com/tyler-the-creator-new-york-new-y
 ork-02-23-2018/event/3B00536BCF1E2A30?artistid=1744607&amp;amp;majorca
 tid=10001&amp;amp;minorcatid=3
URL:https://www1.ticketmaster.com/tyler-the-creator-new-york-new-york-
 02-23-2018/event/3B00536BCF1E2A30?artistid=1744607&amp;amp;majorcatid=
 10001&amp;amp;minorcatid=3
CONTACT:
ORGANIZER;CN="Editor's Pick":https://trueskool.com/profile/RentheVinyl
 Archaeologist
ATTACH;FMTTYPE="image/jpeg":http://storage.ning.com/topology/rest/1.0/
 file/get/2248007293?profile=original
ATTENDEE;ROLE=REQ-PARTICIPANT;PARTSTAT=ACCEPTED;RSVP=TRUE;CN="Editor's
  Pick":https://trueskool.com/profile/RentheVinylArchaeologist
END:VEVENT
END:VCALENDAR
