BEGIN:VCALENDAR
PRODID:NingEventWidget-v1
VERSION:2.0
METHOD:PUBLISH
BEGIN:VTIMEZONE
TZID:America/Los_Angeles
X-LIC-LOCATION:America/Los_Angeles
BEGIN:DAYLIGHT
TZOFFSETFROM:-0800
TZOFFSETTO:-0700
TZNAME:PDT
DTSTART:19700308T020000
RRULE:FREQ=YEARLY;BYMONTH=3;BYDAY=2SU
END:DAYLIGHT
BEGIN:STANDARD
TZOFFSETFROM:-0700
TZOFFSETTO:-0800
TZNAME:PST
DTSTART:19701101T020000
RRULE:FREQ=YEARLY;BYMONTH=11;BYDAY=1SU
END:STANDARD
END:VTIMEZONE
BEGIN:VEVENT
UID:1464587:Event:34463
DTSTAMP:20260423T145957Z
SUMMARY:Turf vs. Circus 2: OPEN THE FLOODGATES
DESCRIPTION:The Get Wet street dancers battle clowns, mimes, and juggl
 ers in the ultimate showdown spectacular! Bring your skillz and join i
 n if you dare...\n\nParty to follow!\n\nwww.getwetent.com\nwww.flux53.
 net\n\n\n\nFor more information visit https://trueskool.com/events/tur
 f-vs-circus-2-open-the
DTSTART;TZID=America/Los_Angeles:20090627T180000
DTEND;TZID=America/Los_Angeles:20090628T000000
CATEGORIES:tutting, popping, "&", juggling, yes, you, heard, right
LOCATION:Flux 53 Theater
WEBSITE:http://www.flux53.net
URL:http://www.flux53.net
CONTACT:(510) 842-8841
ORGANIZER:Get Wet Entertainment & Flux 53
ATTACH;FMTTYPE="image/jpeg":http://storage.ning.com/topology/rest/1.0/
 file/get/2247858370?profile=original
ATTENDEE;ROLE=REQ-PARTICIPANT;PARTSTAT=ACCEPTED;RSVP=TRUE;CN="Flux 53 
 Theater":https://trueskool.com/profile/Flux53Theater
END:VEVENT
END:VCALENDAR
