BEGIN:VCALENDAR
PRODID:NingEventWidget-v1
VERSION:2.0
METHOD:PUBLISH
BEGIN:VTIMEZONE
TZID:America/Los_Angeles
X-LIC-LOCATION:America/Los_Angeles
BEGIN:DAYLIGHT
TZOFFSETFROM:-0800
TZOFFSETTO:-0700
TZNAME:PDT
DTSTART:19700308T020000
RRULE:FREQ=YEARLY;BYMONTH=3;BYDAY=2SU
END:DAYLIGHT
BEGIN:STANDARD
TZOFFSETFROM:-0700
TZOFFSETTO:-0800
TZNAME:PST
DTSTART:19701101T020000
RRULE:FREQ=YEARLY;BYMONTH=11;BYDAY=1SU
END:STANDARD
END:VTIMEZONE
BEGIN:VEVENT
UID:1464587:Event:40703
DTSTAMP:20260422T140548Z
SUMMARY:Turf Circus
DESCRIPTION:Pop & lock, tuttin’ and… trapeze? Freestyle dance batt
 le at 7 – then at 9 the dancers get challenged by circus performers!
  www.getwetent.com http://www.youtube.com/user/getwetent\n- Wanna batt
 le? Email contact@getwetent.com or AIM ceogetwetent\n\nFor more inform
 ation visit https://trueskool.com/events/turf-circus
DTSTART;TZID=America/Los_Angeles:20090918T190000
DTEND;TZID=America/Los_Angeles:20090918T230000
CATEGORIES:turf, dance, battle
LOCATION:Flux 53 Theater (formerly EGYPT)
WEBSITE:http://www.flux53.com
URL:http://www.flux53.com
CONTACT:(510) 842-8841
ORGANIZER;CN="Flux 53 Theater":https://trueskool.com/profile/Flux53The
 ater
ATTACH;FMTTYPE="image/jpeg":http://storage.ning.com/topology/rest/1.0/
 file/get/2247871775?profile=original
ATTENDEE;ROLE=REQ-PARTICIPANT;PARTSTAT=ACCEPTED;RSVP=TRUE;CN="Flux 53 
 Theater":https://trueskool.com/profile/Flux53Theater
END:VEVENT
END:VCALENDAR
