BEGIN:VCALENDAR
PRODID:NingEventWidget-v1
VERSION:2.0
METHOD:PUBLISH
BEGIN:VTIMEZONE
TZID:America/Los_Angeles
X-LIC-LOCATION:America/Los_Angeles
BEGIN:DAYLIGHT
TZOFFSETFROM:-0800
TZOFFSETTO:-0700
TZNAME:PDT
DTSTART:19700308T020000
RRULE:FREQ=YEARLY;BYMONTH=3;BYDAY=2SU
END:DAYLIGHT
BEGIN:STANDARD
TZOFFSETFROM:-0700
TZOFFSETTO:-0800
TZNAME:PST
DTSTART:19701101T020000
RRULE:FREQ=YEARLY;BYMONTH=11;BYDAY=1SU
END:STANDARD
END:VTIMEZONE
BEGIN:VEVENT
UID:1464587:Event:143622
DTSTAMP:20260421T083538Z
SUMMARY:Tuesday Night Karaoke Show at Park 77 - San Francisco, CA
DESCRIPTION:Come join us from 8 pm to midnight every Tuesday Night at 
 Park 77 - 77 Cambon Avenue *located near S.F. State University.    
 Sports Bar - Billiards, Beer Pong.  Yelp rating: http://www.yelp.com/b
 iz/park-77-san-francisco\n\nFor more information visit https://truesko
 ol.com/events/tuesday-night-karaoke-show-at-park-77-san-francisco-ca
DTSTART;TZID=America/Los_Angeles:20130129T200000
DTEND;TZID=America/Los_Angeles:20130129T230000
CATEGORIES:san, francisco, bay, area
LOCATION:Park 77
WEBSITE:http://www.yelp.com/biz/park-77-san-francisco
URL:http://www.yelp.com/biz/park-77-san-francisco
CONTACT:
ORGANIZER:Center Stage Live Karaoke Show
ATTACH;FMTTYPE="image/jpeg":http://storage.ning.com/topology/rest/1.0/
 file/get/2247930685?profile=original
ATTENDEE;ROLE=REQ-PARTICIPANT;PARTSTAT=ACCEPTED;RSVP=TRUE;CN="Gus Rami
 l":https://trueskool.com/profile/GusRamil
END:VEVENT
END:VCALENDAR
