BEGIN:VCALENDAR
PRODID:NingEventWidget-v1
VERSION:2.0
METHOD:PUBLISH
BEGIN:VTIMEZONE
TZID:America/Los_Angeles
X-LIC-LOCATION:America/Los_Angeles
BEGIN:DAYLIGHT
TZOFFSETFROM:-0800
TZOFFSETTO:-0700
TZNAME:PDT
DTSTART:19700308T020000
RRULE:FREQ=YEARLY;BYMONTH=3;BYDAY=2SU
END:DAYLIGHT
BEGIN:STANDARD
TZOFFSETFROM:-0700
TZOFFSETTO:-0800
TZNAME:PST
DTSTART:19701101T020000
RRULE:FREQ=YEARLY;BYMONTH=11;BYDAY=1SU
END:STANDARD
END:VTIMEZONE
BEGIN:VEVENT
UID:1464587:Event:49457
DTSTAMP:20260421T033052Z
SUMMARY:True Skool presents Golden Era ft. DJ Apollo, Sake One, D-Shar
 p, Jah Yzer, plus more...
DESCRIPTION:CLICK HERE FOR REDUCED GUEST LIST\nhttp://www.trueskool.co
 m/group/goldeneraguestlist\n\n\nFRIDAY, APRIL 2\nFrom the producers of
  The Big Payback\nTrue Skool presents\nGolden Era\nA Tribute to Hip Ho
 p's Golden Era (1988-1994).\n\nFeaturing an All-Star DJ Lineup:\nDJ Ap
 ollo (Triple Threat Djs)\nSake One (Local 1200 / PST)\nD-Sharp (Quannu
 m)\nRen the Vinyl Archaeologist (True Skool)\nJah Yzer (Jah Warrior Sh
 elter)\nProof (Massive Selector)\nWhooligan (Eve)\nVickity Slick (YBR/
 True Skool)\n\n@ Mighty, 119 Utah St., San Francisco\nDoors 10pm-After
 hours. 21 and over. Cover $10.\nGuest List / Info: http://www.trueskoo
 l.com\n\nFor Birthday Groups & VIP Table Reservations, email: trueskoo
 l@gmail.com\nSponsored by: Fusicology, Lion&Rooster Clothing, WeedTrac
 ker & YBR.\nDETAILS On Friday, April 2nd, True Skool, whose mission st
 atement reads, \"dedicated to preserving the legacy of hip hop\", pres
 ents a new event that pays tribute to Hip Hop's Golden Era. Aptly titl
 ed, \"Golden Era\", this event brings back the hip hop classics from a
  long forgotten era of hip hop that represents diverse voices counter 
 to the mainstream hip hop heard and seen in today's radio and TV stati
 ons. The event features luminaries such as DJ Apollo (Triple Threat DJ
 s), Sake One (PST/Local 1200), D-Sharp (Quannum), Jah Yzer (Jah Warrio
 r Shelter), Ren the Vinyl Archaeologist (True Skool), Whooligan (40Lov
 e), Proof (Massive Selector) and Vickity Slick (YBR). \"We're bringing
  it back to when there was a balance in hip hop music,\" says Ren the 
 Vinyl Archaeologist, DJ and event organizer. \"From True Skool's incep
 tion, we've incorporated classic hip hop and supported independent act
 s who keep the hip hop spirit alive. For almost 10-years, our website 
 (http://www.trueskool.com) has served as a platform for those under-re
 presented voices and now it's grown as a social network like a Faceboo
 k for the urban music scene.\" From artists like NWA and Public Enemy 
 to Queen Latifah and KRS-One, \"Golden Era\" will set the stage for a 
 series of events, where the diversity of this era (arguably between 19
 88-1994) can be represented and where a diverse group music lovers you
 ng and old can appreciate hip hop music when it was all about \"Peace,
  Unity, Love,& Havin' Fun\".\n\nFor more information visit https://tru
 eskool.com/events/true-skool-presents-golden-era
DTSTART;TZID=America/Los_Angeles:20100402T210000
DTEND;TZID=America/Los_Angeles:20100403T040000
CATEGORIES:hip, hop
LOCATION:Mighty, San Francisco, CA
WEBSITE:http://www.trueskool.com
URL:http://www.trueskool.com
CONTACT:
ORGANIZER:True Skool
ATTACH;FMTTYPE="image/jpeg":http://storage.ning.com/topology/rest/1.0/
 file/get/2057416820?profile=original
ATTENDEE;ROLE=REQ-PARTICIPANT;PARTSTAT=ACCEPTED;RSVP=TRUE;CN="erin fly
 nn":https://trueskool.com/profile/erinflynn
ATTENDEE;ROLE=REQ-PARTICIPANT;PARTSTAT=ACCEPTED;RSVP=TRUE;CN="Editor's
  Pick":https://trueskool.com/profile/RentheVinylArchaeologist
END:VEVENT
END:VCALENDAR
