BEGIN:VCALENDAR
PRODID:NingEventWidget-v1
VERSION:2.0
METHOD:PUBLISH
BEGIN:VTIMEZONE
TZID:America/Los_Angeles
X-LIC-LOCATION:America/Los_Angeles
BEGIN:DAYLIGHT
TZOFFSETFROM:-0800
TZOFFSETTO:-0700
TZNAME:PDT
DTSTART:19700308T020000
RRULE:FREQ=YEARLY;BYMONTH=3;BYDAY=2SU
END:DAYLIGHT
BEGIN:STANDARD
TZOFFSETFROM:-0700
TZOFFSETTO:-0800
TZNAME:PST
DTSTART:19701101T020000
RRULE:FREQ=YEARLY;BYMONTH=11;BYDAY=1SU
END:STANDARD
END:VTIMEZONE
BEGIN:VEVENT
UID:1464587:Event:39072
DTSTAMP:20260422T060356Z
SUMMARY:Triple Threat 10 Year Anniversary feat. Goapele & Zumbi of Zio
 n-I
DESCRIPTION:TRUE x L-R-G Clothing present\n\n::The Triple Threat 10 Ye
 ar Anniversary Celebration::\n\nJoin us as we celebrate the 10 Year An
 niversary of the Bay Area's own Triple Threat DJs. Apollo, Shortkut an
 d Vinroc have been moving the masses from a local and international le
 vel.\n\nThe relationship with LRG is very special. The Triple Threat D
 Js were one of the first groups that L-R-G sponsored as artists when t
 he brand was first created 10 years ago. And TRUE, the premier San Fra
 ncisco urban clothing boutique has been a fan and avid supporter of gr
 oup as well. The combination of L-R-G x True x Triple Threat - well, r
 eally is a \"triple threat\". With that said, L-R-G x TRUE x Triple Th
 reat have created a limited edition t-shirt to commemorate this specia
 l event. The tee will only be available at TRUE.\n\nWe hope you join u
 s for this special occasion. If you ever bought our mixes, attended on
 e of our many events or supported our movement, we invite you personal
 ly. You, are responsible for our success and longevity. To the promote
 rs, DJs and industry - we thank you for inviting us to move the crowd.
 \n\nWe thank you all sincerely for helping us get this far. You are ou
 r motivation....for you, we will always keep it movin'\n\nSpecial DJ T
 eam Performance By\n\nAPOLLO x SHORTKUT x VINROC\n\nLive Performances 
 By\n\nGOAPELE\n\nZUMBI\nof Zion-I\n\nAnd Special Surprise Guests\n\nal
 ong with Bay Area DJs\n\nMIND MOTION\nSAKE 1\nMR. E\n\nHosted By\nFRAN
  BOOGIE\n\nLimited $15 Pre-Sale Tickets\nhttp://sanfrancisco.going.com
 /3t_anniversary\n\nFor more information visit https://trueskool.com/ev
 ents/triple-threat-10-year
DTSTART;TZID=America/Los_Angeles:20090912T220000
DTEND;TZID=America/Los_Angeles:20090913T020000
CATEGORIES:10, year, anniversary, hip, hop
LOCATION:Mighty
WEBSITE:http://www.facebook.com/home.php?#/event.php?eid=131476166813
URL:http://www.facebook.com/home.php?#/event.php?eid=131476166813
CONTACT:
ORGANIZER:True, LRG Clothing & Triple Threat
ATTACH;FMTTYPE="image/jpeg":http://storage.ning.com/topology/rest/1.0/
 file/get/2247864556?profile=original
ATTENDEE;ROLE=REQ-PARTICIPANT;PARTSTAT=ACCEPTED;RSVP=TRUE;CN="DJ Apoll
 o":https://trueskool.com/profile/DJApollo
END:VEVENT
END:VCALENDAR
