BEGIN:VCALENDAR
PRODID:NingEventWidget-v1
VERSION:2.0
METHOD:PUBLISH
BEGIN:VTIMEZONE
TZID:America/Los_Angeles
X-LIC-LOCATION:America/Los_Angeles
BEGIN:DAYLIGHT
TZOFFSETFROM:-0800
TZOFFSETTO:-0700
TZNAME:PDT
DTSTART:19700308T020000
RRULE:FREQ=YEARLY;BYMONTH=3;BYDAY=2SU
END:DAYLIGHT
BEGIN:STANDARD
TZOFFSETFROM:-0700
TZOFFSETTO:-0800
TZNAME:PST
DTSTART:19701101T020000
RRULE:FREQ=YEARLY;BYMONTH=11;BYDAY=1SU
END:STANDARD
END:VTIMEZONE
BEGIN:VEVENT
UID:1464587:Event:680256
DTSTAMP:20260421T080351Z
SUMMARY:TRINA LIVE! BACK BY POPULAR DEMAND! @ COMPLEX
DESCRIPTION:DA BADDEST CHICK -TRINA LIVE!. DA BADDEST CHICK -TRINA LIV
 E!. Complex Oakland Present TRINA LIVE! BACK BY POPULAR DEMAND! TRINA 
 Performing Live Performing all her #1 hits Support from:DJ TRUTH | DJ 
 J12 and more! Saturday December 8th / 10PM - 2AM / 21+ Tickets: After 
 purchasing a ticket through Eventbrite, you will receive an email with
  your tickets attached as a PDF. Please PRINT out your tickets and bri
 ng them with you on the night of the event. By purchasing a ticket you
  agree to receive periodic email communication from Complex Oakland. P
 resale tickets must be redeemed by 1:30am.All events are 21+ | Please 
 bring valid identification | NO REFUNDS.\n\nFor more information visit
  https://trueskool.com/events/trina-live-back-by-popular-demand-comple
 x
DTSTART;TZID=America/Los_Angeles:20181208T220000
DTEND;TZID=America/Los_Angeles:20181209T020000
CATEGORIES:party, performance, experience, music, nightlife, drink, dj
 , hip, hop, urban, "21+"
LOCATION:Complex Oakland
WEBSITE:https://www.scenesquid.com/events/trina-live-back-by-popular-d
 emand-complex/5bebebab15686e8ceb000004?referring_publisher=557fcea2808
 529985700000d
URL:https://www.scenesquid.com/events/trina-live-back-by-popular-deman
 d-complex/5bebebab15686e8ceb000004?referring_publisher=557fcea28085299
 85700000d
CONTACT:4152405286
ORGANIZER:Complex Oakland
ATTACH;FMTTYPE="image/jpeg":
ATTENDEE;ROLE=REQ-PARTICIPANT;PARTSTAT=ACCEPTED;RSVP=TRUE;CN="SceneSqu
 id SF Bay":https://trueskool.com/profile/SceneSquidSFBay
END:VEVENT
END:VCALENDAR
