BEGIN:VCALENDAR
PRODID:NingEventWidget-v1
VERSION:2.0
METHOD:PUBLISH
BEGIN:VTIMEZONE
TZID:America/Los_Angeles
X-LIC-LOCATION:America/Los_Angeles
BEGIN:DAYLIGHT
TZOFFSETFROM:-0800
TZOFFSETTO:-0700
TZNAME:PDT
DTSTART:19700308T020000
RRULE:FREQ=YEARLY;BYMONTH=3;BYDAY=2SU
END:DAYLIGHT
BEGIN:STANDARD
TZOFFSETFROM:-0700
TZOFFSETTO:-0800
TZNAME:PST
DTSTART:19701101T020000
RRULE:FREQ=YEARLY;BYMONTH=11;BYDAY=1SU
END:STANDARD
END:VTIMEZONE
BEGIN:VEVENT
UID:1464587:Event:40443
DTSTAMP:20260422T165949Z
SUMMARY:Tribute: 'A Tribe Called Quest' ft. Kev Choice Ensemble
DESCRIPTION:Kev Choice, Shattuck Down Low & Angel Magik Present\nTribu
 te: “A Tribe Called Quest”\n\nFeaturing the music of \"A Tribe Cal
 led Quest\" performed live by\nKev Choice Ensemble & Special Guests\n\
 nClassic Old School 80’s & 90's Hip-Hop, Soul and R&B by DJ Mpenzi\n
 \nHosted by\nTastemaker Live & Segue\n\nKev Choice Ensemble pays homag
 e to one of the most innovative Hip-Hop groups of all time - A Tribe C
 alled Quest - by performing a set of their classic hits, rare jewels a
 long with original samples, which were the foundation of their signatu
 re sound. Special Guest MCs will join the Ensemble to perform the lyri
 cs of these classic songs.\n\n\n\nFor more information visit https://t
 rueskool.com/events/tribute-a-tribe-called-quest
DTSTART;TZID=America/Los_Angeles:20090918T213000
DTEND;TZID=America/Los_Angeles:20090919T020000
CATEGORIES:hip-hop, live, music, tribute
LOCATION:Shattuck Down Low
WEBSITE:http://www.shattuckdownlow.com/
URL:http://www.shattuckdownlow.com/
CONTACT:(510) 548-1159
ORGANIZER:ZSA-ZSA INC, Kev Choice, Angel Magik, Shattuck Down Low
ATTACH;FMTTYPE="image/jpeg":http://storage.ning.com/topology/rest/1.0/
 file/get/2247865571?profile=original
ATTENDEE;ROLE=REQ-PARTICIPANT;PARTSTAT=ACCEPTED;RSVP=TRUE;CN="ZSA-ZSA 
 INC":https://trueskool.com/profile/ZSAZSAINC
END:VEVENT
END:VCALENDAR
