BEGIN:VCALENDAR
PRODID:NingEventWidget-v1
VERSION:2.0
METHOD:PUBLISH
BEGIN:VTIMEZONE
TZID:America/Los_Angeles
X-LIC-LOCATION:America/Los_Angeles
BEGIN:DAYLIGHT
TZOFFSETFROM:-0800
TZOFFSETTO:-0700
TZNAME:PDT
DTSTART:19700308T020000
RRULE:FREQ=YEARLY;BYMONTH=3;BYDAY=2SU
END:DAYLIGHT
BEGIN:STANDARD
TZOFFSETFROM:-0700
TZOFFSETTO:-0800
TZNAME:PST
DTSTART:19701101T020000
RRULE:FREQ=YEARLY;BYMONTH=11;BYDAY=1SU
END:STANDARD
END:VTIMEZONE
BEGIN:VEVENT
UID:1464587:Event:63426
DTSTAMP:20260420T070353Z
SUMMARY:Trey Songz
DESCRIPTION:Trey Songz\n\nThe Warfield\n982 Market Street, San Francis
 co, CA 94102\n08:00 PM\nBuy Tickets\n\nFor more information visit http
 s://trueskool.com/events/trey-songz
DTSTART;TZID=America/Los_Angeles:20100909T200000
DTEND;TZID=America/Los_Angeles:20100909T230000
CATEGORIES:bay, area, san, francisco, ca
LOCATION:The Warfield, San Francisco
WEBSITE:http://www.ticketmaster.com/event/1C0044E1D8045F0A?artistid=10
 13523&majorcatid=10001&minorcatid=202
URL:http://www.ticketmaster.com/event/1C0044E1D8045F0A?artistid=101352
 3&majorcatid=10001&minorcatid=202
CONTACT:
ORGANIZER:Golden Voice
ATTACH;FMTTYPE="image/jpeg":http://storage.ning.com/topology/rest/1.0/
 file/get/2247882133?profile=original
ATTENDEE;ROLE=REQ-PARTICIPANT;PARTSTAT=ACCEPTED;RSVP=TRUE;CN="Ren the 
 Vinyl Archaeologist":https://trueskool.com/profile/xh51jvilojur
END:VEVENT
END:VCALENDAR
