BEGIN:VCALENDAR
PRODID:NingEventWidget-v1
VERSION:2.0
METHOD:PUBLISH
BEGIN:VTIMEZONE
TZID:America/Los_Angeles
X-LIC-LOCATION:America/Los_Angeles
BEGIN:DAYLIGHT
TZOFFSETFROM:-0800
TZOFFSETTO:-0700
TZNAME:PDT
DTSTART:19700308T020000
RRULE:FREQ=YEARLY;BYMONTH=3;BYDAY=2SU
END:DAYLIGHT
BEGIN:STANDARD
TZOFFSETFROM:-0700
TZOFFSETTO:-0800
TZNAME:PST
DTSTART:19701101T020000
RRULE:FREQ=YEARLY;BYMONTH=11;BYDAY=1SU
END:STANDARD
END:VTIMEZONE
BEGIN:VEVENT
UID:1464587:Event:810873
DTSTAMP:20260422T031252Z
SUMMARY:Trentemoller
DESCRIPTION:Trentemoller\r\nMon Sep 19 2022 8:00 PM (Doors 7:00 PM)\r\
 nAugust Hall 420 Mason St San Francisco, CA 94102\r\n$30.00 All Ages\n
 \nFor more information visit https://trueskool.com/events/trentemoller
DTSTART;TZID=America/Los_Angeles:20220919T190000
DTEND;TZID=America/Los_Angeles:20220919T230000
CATEGORIES:"bay area", oakland, "san francisco", "san jose", berkeley
LOCATION:AUGUST HALL, SF
WEBSITE:https://www.ticketweb.com/event/trentemoller-august-hall-ticke
 ts/12069875?pl=august&amp;REFID=clientsitewp
URL:https://www.ticketweb.com/event/trentemoller-august-hall-tickets/1
 2069875?pl=august&amp;REFID=clientsitewp
CONTACT:
ORGANIZER;CN="Editor's Pick":https://trueskool.com/profile/RentheVinyl
 Archaeologist
ATTACH;FMTTYPE="image/jpeg":https://storage.ning.com/topology/rest/1.0
 /file/get/10735660853?profile=original
ATTENDEE;ROLE=REQ-PARTICIPANT;PARTSTAT=ACCEPTED;RSVP=TRUE;CN="Editor's
  Pick":https://trueskool.com/profile/RentheVinylArchaeologist
END:VEVENT
END:VCALENDAR
