BEGIN:VCALENDAR
PRODID:NingEventWidget-v1
VERSION:2.0
METHOD:PUBLISH
BEGIN:VTIMEZONE
TZID:America/Los_Angeles
X-LIC-LOCATION:America/Los_Angeles
BEGIN:DAYLIGHT
TZOFFSETFROM:-0800
TZOFFSETTO:-0700
TZNAME:PDT
DTSTART:19700308T020000
RRULE:FREQ=YEARLY;BYMONTH=3;BYDAY=2SU
END:DAYLIGHT
BEGIN:STANDARD
TZOFFSETFROM:-0700
TZOFFSETTO:-0800
TZNAME:PST
DTSTART:19701101T020000
RRULE:FREQ=YEARLY;BYMONTH=11;BYDAY=1SU
END:STANDARD
END:VTIMEZONE
BEGIN:VEVENT
UID:1464587:Event:468424
DTSTAMP:20260421T003400Z
SUMMARY:Trap CIty Holiday Twerk-Off
DESCRIPTION:Get tickets: http://ticketf.ly/1u3svM0 \nXXX THE TRAP CIT
 Y HOLIDAY PARTY XXX\nSATURDAY NOVEMBER 22ND\n\nSF'S BEST TRAP PARTY IS
  BACK TO CELEBRATE THIS HOLIDAY SEASON. TIME TO TURN UP WITH THE CREW 
 FEATURING SOME OF THE BEST DJS IN THE BAY:\n\nULTRAVIOLET\nhttps://www
 .facebook.com/ultravioletdj https://soundcloud.com/djultraviolet \nNAP
 STY\nhttps://www.facebook.com/djnapsty https://soundcloud.com/napsty-1
  \nLé SWNDLE\nhttps://www.facebook.com/Swxdle https://soundcloud.com/
 leswndle \nTHIZZ MARKIE\nhttp://www.facebook.com/ThizzMarkie https://s
 oundcloud.com/thizzmarkie \nWOLFBITCH\nhttps://www.facebook.com/lazerc
 laws https://soundcloud.com/wolfbtch666 \nTELEPORT\nhttps://www.facebo
 ok.com/teleportbassmusic https://soundcloud.com/teleport \nTHE TRAP CI
 TY TWERK SQUAD\nhttps://www.facebook.com/TRAPCITYTWERKSQUAD \nvisuals 
 by NIGHTHAWKE\n\nSECRET GUEST TBA\n\nTHANK YOU SAN FRANCISCO FOR HELPI
 NG MAKE US ONE OF THE BEST CLUB NIGHTS IN THE BAY!\n\nCHAMPAGNE TOAST 
 AT MIDNIGHT!\nLIVE ARTISTS\nVIP & BOTTLE SERVICE PACKAGES AVAILABLE.\n
 email: trapcitysf@gmail.com for info\nAT 1192 Folsom \n10pm to 3am\n
 21+\n\nFor more information visit https://trueskool.com/events/trap-ci
 ty-holiday-twerk-off
DTSTART;TZID=America/Los_Angeles:20141122T220000
DTEND;TZID=America/Los_Angeles:20141123T030000
CATEGORIES:f8, "1192 folsom", trap, "trap city", twerk, "san francisco
 ", sf
LOCATION:F8
WEBSITE:https://www.ticketfly.com/purchase/event/722267
URL:https://www.ticketfly.com/purchase/event/722267
CONTACT:3176265054
ORGANIZER:TRAP CITY
ATTACH;FMTTYPE="image/jpeg":http://storage.ning.com/topology/rest/1.0/
 file/get/2247971369?profile=original
ATTENDEE;ROLE=REQ-PARTICIPANT;PARTSTAT=ACCEPTED;RSVP=TRUE;CN="Steezy W
 onder":https://trueskool.com/profile/SteezyWonder
END:VEVENT
END:VCALENDAR
