BEGIN:VCALENDAR
PRODID:NingEventWidget-v1
VERSION:2.0
METHOD:PUBLISH
BEGIN:VTIMEZONE
TZID:America/Los_Angeles
X-LIC-LOCATION:America/Los_Angeles
BEGIN:DAYLIGHT
TZOFFSETFROM:-0800
TZOFFSETTO:-0700
TZNAME:PDT
DTSTART:19700308T020000
RRULE:FREQ=YEARLY;BYMONTH=3;BYDAY=2SU
END:DAYLIGHT
BEGIN:STANDARD
TZOFFSETFROM:-0700
TZOFFSETTO:-0800
TZNAME:PST
DTSTART:19701101T020000
RRULE:FREQ=YEARLY;BYMONTH=11;BYDAY=1SU
END:STANDARD
END:VTIMEZONE
BEGIN:VEVENT
UID:1464587:Event:53258
DTSTAMP:20260420T225136Z
SUMMARY:TraMaí Entertainment presents 1st Annual Soul Music By The Ba
 y Conference
DESCRIPTION:\nJune 25 -26, 2010\nTraMaí Entertainment\nPresents\nSoul
  Music By The Bay 2010 Conference\nNETWORK - LEARN - PERFORM - NETWORK
  - LEARN - PERFORM - NETWORK - LEARN - PERFORM\n\n2-day educational co
 nference offering expert panels, workshops, round tables and 2 showcas
 es. Enormous networking possibilities with other artists, music busine
 ss professionals, exhibitors, sponsors, and others.\n\nTO OFFICIALLY R
 EGISTER GO TO\nhttp://soulmusicbythebay.eventbrite.com/\nAND RECEIVE T
 WO DAYS AT THE PRICE FOR ONE DAY. HURRY THIS IS A LIMITED TIME OFFER T
 ILL JUNE 24, 2010. PUT IN SOULMUSIC2010 TO GET YOUR TICKETS AT $80 AND
  SAVE. WALK-UPS ON JUNE 25TH THE PRICE WILL BE $200\n\nSTUDENTS PAY ON
 LY $60: Must present school ID or current class schedule at the time o
 f picking up badge.\n\nThis is what we have in store for you:\n\n1) Pa
 nelists like James \"Pharoah\" Brown (Grammy-award winner), Martin Lut
 her McCoy (singer/songwriter), Michael Winger (President of The Record
 ing Academy, San Francisco),\nGerry Dove (Promotions Director, Clear C
 hannel Radio), Alissa Hernandez (Manager, Film/TV Music Universal Musi
 c Enterprises), and many more.\n\n2) Over 20 fascinating topics like \
 "Touring on a budget\", \"Make an MTV quality video on little to\nno b
 udget\", \"Silky Soul - Women in Music Business\" and many more.\n\n3)
  Networking with other attendees from all over the world: singers, mus
 icians, managers, music\nbusiness executves, radio & label representat
 ive, lawyers, etc.\n\n4) Two Showcases:\nCONFIRMED ARTIST TO PERFORM @
  KIMBALL'S CARNIVAL LOCATED @ 522 2ND STREET., OAKLAND, CA\n\n********
 NOTE*******\nREGISTERED ATTENDEES USE BADGE TO GAIN ENTRY TO THE SHOWC
 ASES\n******\n\n5) AND SO MUCH MORE!\n\nJoin us @ The Waterfront Hotel
 , Jack London Square, Oakland, CA June 25-26, 2010. For more details g
 o to:\nhttp://www.soulmusicbythebay.com/\n\nABOUT:\nTraMaí Entertainm
 ent, Inc. (TME) is a company that specializes in artist management, ar
 tist development, production, and promotion, including educational sem
 inars \"Soul Music By The Bay\".\nWhile there are many emerging entert
 ainers, executives, and managers out there today, most often few under
 stand the business-side of the entertainment industry.\n\n\n\nFor more
  information visit https://trueskool.com/events/tramai-entertainment-p
 resents
DTSTART;TZID=America/Los_Angeles:20100625T000000
DTEND;TZID=America/Los_Angeles:20100626T235900
CATEGORIES:soul, "r&b", conference
LOCATION:Waterfront Hotel, Oakland, CA
WEBSITE:http://www.soulmusicbythebay.com
URL:http://www.soulmusicbythebay.com
CONTACT:
ORGANIZER:TraMai Entertainment
ATTACH;FMTTYPE="image/jpeg":http://storage.ning.com/topology/rest/1.0/
 file/get/2106907573?profile=original
ATTENDEE;ROLE=REQ-PARTICIPANT;PARTSTAT=ACCEPTED;RSVP=TRUE;CN="Ren the 
 Vinyl Archaeologist":https://trueskool.com/profile/xh51jvilojur
END:VEVENT
END:VCALENDAR
