BEGIN:VCALENDAR
PRODID:NingEventWidget-v1
VERSION:2.0
METHOD:PUBLISH
BEGIN:VTIMEZONE
TZID:America/Los_Angeles
X-LIC-LOCATION:America/Los_Angeles
BEGIN:DAYLIGHT
TZOFFSETFROM:-0800
TZOFFSETTO:-0700
TZNAME:PDT
DTSTART:19700308T020000
RRULE:FREQ=YEARLY;BYMONTH=3;BYDAY=2SU
END:DAYLIGHT
BEGIN:STANDARD
TZOFFSETFROM:-0700
TZOFFSETTO:-0800
TZNAME:PST
DTSTART:19701101T020000
RRULE:FREQ=YEARLY;BYMONTH=11;BYDAY=1SU
END:STANDARD
END:VTIMEZONE
BEGIN:VEVENT
UID:1464587:Event:63419
DTSTAMP:20260420T230417Z
SUMMARY:Touch VS The Bridge: Live w/ MR. CHOC & DJ HAPA
DESCRIPTION:The Farewell Party to\n\"TOUCH\"\nOne of San Francisco's l
 ongest 2nd Saturday party must come to an end. We've had lot's of grea
 t parties, brought you some amazing local & world know DJs and giving 
 you great nights time and time again.\nTo help with the celebration is
  one of Los Angeles longest running party \"THE BRIDGE\"\n\nLive in th
 e Main Room: Hip-Hop/Club-Hits/90's Hits\n** MR. CHOC **\nWorld Famous
  Beat Junkies / The Bridge Resident / S.K.A.M\nhttp://www.myspace.com/
 mrchocfan4\n\n** DJ HAPA **\nScratch DJ Academy / The Bridge Resident\
 nhttp://hapaworld.com/site/\n\nIn the Front Lounge: Electro/Pop/Top-40
 \n** DJ J-Santy **\nIAM DJS / SJ / SF\n\n** DIRTY-D **\nOfficial B-Day
  Bash / SF\n\n++ FREE Guest List before 11pm ++\n- EMAIL Full Names to
 : GUESTLIST@VICPRESENTS.COM\n\nVIP Bottle & Table Service is highly en
 couraged, call now: # 650.267.1801\n\nATMOSPHERE - 447 Broadway Street
 , San Francisco\n\nhttp://www.vicpresents.com/ - http://www.innevents.
 com/\nhttp://www.thebridgepresents.com/\n\n\nFor more information visi
 t https://trueskool.com/events/touch-vs-the-bridge-live-w-mr
DTSTART;TZID=America/Los_Angeles:20100814T220000
DTEND;TZID=America/Los_Angeles:20100815T020000
CATEGORIES:bay, area, san, francisco, ca
LOCATION:ATMOSPHERE, SAN FRANCISCO, CA
WEBSITE:http://www.vicpresents.com
URL:http://www.vicpresents.com
CONTACT:650.267.1801
ORGANIZER:Vic Presents, Inn Events, Fusion 5 Group & The Bridge
ATTACH;FMTTYPE="image/jpeg":http://storage.ning.com/topology/rest/1.0/
 file/get/2247882350?profile=original
ATTENDEE;ROLE=REQ-PARTICIPANT;PARTSTAT=ACCEPTED;RSVP=TRUE;CN="Vic Pres
 ents":https://trueskool.com/profile/VicPresents
END:VEVENT
END:VCALENDAR
