BEGIN:VCALENDAR
PRODID:NingEventWidget-v1
VERSION:2.0
METHOD:PUBLISH
BEGIN:VTIMEZONE
TZID:America/Los_Angeles
X-LIC-LOCATION:America/Los_Angeles
BEGIN:DAYLIGHT
TZOFFSETFROM:-0800
TZOFFSETTO:-0700
TZNAME:PDT
DTSTART:19700308T020000
RRULE:FREQ=YEARLY;BYMONTH=3;BYDAY=2SU
END:DAYLIGHT
BEGIN:STANDARD
TZOFFSETFROM:-0700
TZOFFSETTO:-0800
TZNAME:PST
DTSTART:19701101T020000
RRULE:FREQ=YEARLY;BYMONTH=11;BYDAY=1SU
END:STANDARD
END:VTIMEZONE
BEGIN:VEVENT
UID:1464587:Event:674863
DTSTAMP:20260421T051944Z
SUMMARY:Tory Lanez
DESCRIPTION:ENTER TO WIN A PAIR OF TICKETS. WINNER WILL BE DRAWN RANDO
 MLY AND ANNOUNCED 2 DAYS PRIOR TO EVENT.\r\n SUNDAY, JUNE 3 Goldenvoic
 e presents Tory Lanez\r\nThe Warfield San Francisco, CA  8:00 PM Ages:
  All Ages >> BUY TICKETS\r\n\n\nFor more information visit https://tru
 eskool.com/events/tory-lanez
DTSTART;TZID=America/Los_Angeles:20180603T200000
DTEND;TZID=America/Los_Angeles:20180603T230000
CATEGORIES:"bay area", "san francisco"
LOCATION:The Warfield, SF
WEBSITE:https://www.axs.com/events/352449/tory-lanez-tickets
URL:https://www.axs.com/events/352449/tory-lanez-tickets
CONTACT:
ORGANIZER:Goldenvoice
ATTACH;FMTTYPE="image/jpeg":http://storage.ning.com/topology/rest/1.0/
 file/get/2248007080?profile=original
ATTENDEE;ROLE=REQ-PARTICIPANT;PARTSTAT=ACCEPTED;RSVP=TRUE;CN="Editor's
  Pick":https://trueskool.com/profile/RentheVinylArchaeologist
END:VEVENT
END:VCALENDAR
