BEGIN:VCALENDAR
PRODID:NingEventWidget-v1
VERSION:2.0
METHOD:PUBLISH
BEGIN:VTIMEZONE
TZID:America/Los_Angeles
X-LIC-LOCATION:America/Los_Angeles
BEGIN:DAYLIGHT
TZOFFSETFROM:-0800
TZOFFSETTO:-0700
TZNAME:PDT
DTSTART:19700308T020000
RRULE:FREQ=YEARLY;BYMONTH=3;BYDAY=2SU
END:DAYLIGHT
BEGIN:STANDARD
TZOFFSETFROM:-0700
TZOFFSETTO:-0800
TZNAME:PST
DTSTART:19701101T020000
RRULE:FREQ=YEARLY;BYMONTH=11;BYDAY=1SU
END:STANDARD
END:VTIMEZONE
BEGIN:VEVENT
UID:1464587:Event:282186
DTSTAMP:20260421T195556Z
SUMMARY:Tormenta Tropical 6 Year Anniversary w/ Max Glazer
DESCRIPTION:Saturday 12/14/13 it’s the Tormenta Tropical 6yr Anniver
 sary w/ the big man Max Glazer repping Federation Sound str8 from 
 NYC + Oro11 & Deejay Theory »>\nat The Elbo Room 647 Valencia S
 t. // More info here\n\nFor more information visit https://trueskool.
 com/events/tormenta-tropical-6-year-anniversary-w-max-glazer
DTSTART;TZID=America/Los_Angeles:20131214T220000
DTEND;TZID=America/Los_Angeles:20131215T020000
CATEGORIES:san, francisco
LOCATION:Elbo Room, SF, CA
WEBSITE:https://www.facebook.com/events/237803416382602/24314754251485
 6/?notif_t=plan_mall_activity
URL:https://www.facebook.com/events/237803416382602/243147542514856/?n
 otif_t=plan_mall_activity
CONTACT:
ORGANIZER:Bersa Discos
ATTACH;FMTTYPE="image/jpeg":http://storage.ning.com/topology/rest/1.0/
 file/get/2247953828?profile=original
ATTENDEE;ROLE=REQ-PARTICIPANT;PARTSTAT=ACCEPTED;RSVP=TRUE;CN="Deejay T
 heory":https://trueskool.com/profile/DJTheory
END:VEVENT
END:VCALENDAR
