BEGIN:VCALENDAR
PRODID:NingEventWidget-v1
VERSION:2.0
METHOD:PUBLISH
BEGIN:VTIMEZONE
TZID:America/Los_Angeles
X-LIC-LOCATION:America/Los_Angeles
BEGIN:DAYLIGHT
TZOFFSETFROM:-0800
TZOFFSETTO:-0700
TZNAME:PDT
DTSTART:19700308T020000
RRULE:FREQ=YEARLY;BYMONTH=3;BYDAY=2SU
END:DAYLIGHT
BEGIN:STANDARD
TZOFFSETFROM:-0700
TZOFFSETTO:-0800
TZNAME:PST
DTSTART:19701101T020000
RRULE:FREQ=YEARLY;BYMONTH=11;BYDAY=1SU
END:STANDARD
END:VTIMEZONE
BEGIN:VEVENT
UID:1464587:Event:30921
DTSTAMP:20260420T213147Z
SUMMARY:Toppa Top Thursdays One Yr Anniversary
DESCRIPTION:Jah Warrior Shelter Hi-Fi Presents:\nToppa Top Thursdays\n
 One Year Anniversary Bash\nNew Reggae Happy Hour\nevery Thursday @ Top
 pa Top\nWith 2 for 1 drinks from 10-11pm\n\nOne Year Anniversary Bash\
 nwith special guest\nMark Wonder\nalongside\nJah Warrior Shelter Hi-Fi
 \n\n\n\n\nPrice $5 Allnite\ngoing.com\nTime 9pm-2am\nMusic Reggae, Dan
 cehall, Remixes\n\nFor more information visit https://trueskool.com/ev
 ents/toppa-top-thursdays-one-yr
DTSTART;TZID=America/Los_Angeles:20090416T210000
DTEND;TZID=America/Los_Angeles:20090417T140000
CATEGORIES:reggae, dancehall
LOCATION:Club Six, San Francisco, CA
WEBSITE:http://www.clubsix1.com
URL:http://www.clubsix1.com
CONTACT:415-531-6593
ORGANIZER:Angel
ATTACH;FMTTYPE="image/jpeg":
ATTENDEE;ROLE=REQ-PARTICIPANT;PARTSTAT=ACCEPTED;RSVP=TRUE;CN=Cecily:ht
 tps://trueskool.com/profile/Cecily
END:VEVENT
END:VCALENDAR
