BEGIN:VCALENDAR
PRODID:NingEventWidget-v1
VERSION:2.0
METHOD:PUBLISH
BEGIN:VTIMEZONE
TZID:America/Los_Angeles
X-LIC-LOCATION:America/Los_Angeles
BEGIN:DAYLIGHT
TZOFFSETFROM:-0800
TZOFFSETTO:-0700
TZNAME:PDT
DTSTART:19700308T020000
RRULE:FREQ=YEARLY;BYMONTH=3;BYDAY=2SU
END:DAYLIGHT
BEGIN:STANDARD
TZOFFSETFROM:-0700
TZOFFSETTO:-0800
TZNAME:PST
DTSTART:19701101T020000
RRULE:FREQ=YEARLY;BYMONTH=11;BYDAY=1SU
END:STANDARD
END:VTIMEZONE
BEGIN:VEVENT
UID:1464587:Event:672714
DTSTAMP:20260421T185446Z
SUMMARY:Top Dawg Entertainment: The Championship Tour Feat. Kendrick L
 amar SZA Schoolboy Q Ab-Soul
DESCRIPTION:\r\nWEDNESDAY, MAY 9 Top Dawg Entertainment: The Champions
 hip Tour\r\n Featuring:  Kendrick Lamar SZA Schoolboy Q Ab-Soul J Rock
  Sir Lance Skiiwalker\r\nOracle Arena, Oakland, CA 7:30pm >> BUY TICKE
 TS\r\n\n\nFor more information visit https://trueskool.com/events/top-
 dawg-entertainment-the-championship-tour-feat-kendrick-lamar-
DTSTART;TZID=America/Los_Angeles:20180509T193000
DTEND;TZID=America/Los_Angeles:20180509T230000
CATEGORIES:"bay area", oakland
LOCATION:Oracle Arena, Oakland
WEBSITE:http://bit.ly/2GlIXTw
URL:http://bit.ly/2GlIXTw
CONTACT:
ORGANIZER:Live Nation
ATTACH;FMTTYPE="image/jpeg":http://storage.ning.com/topology/rest/1.0/
 file/get/2248006229?profile=original
ATTENDEE;ROLE=REQ-PARTICIPANT;PARTSTAT=ACCEPTED;RSVP=TRUE;CN="Editor's
  Pick":https://trueskool.com/profile/RentheVinylArchaeologist
END:VEVENT
END:VCALENDAR
