BEGIN:VCALENDAR
PRODID:NingEventWidget-v1
VERSION:2.0
METHOD:PUBLISH
BEGIN:VTIMEZONE
TZID:America/Los_Angeles
X-LIC-LOCATION:America/Los_Angeles
BEGIN:DAYLIGHT
TZOFFSETFROM:-0800
TZOFFSETTO:-0700
TZNAME:PDT
DTSTART:19700308T020000
RRULE:FREQ=YEARLY;BYMONTH=3;BYDAY=2SU
END:DAYLIGHT
BEGIN:STANDARD
TZOFFSETFROM:-0700
TZOFFSETTO:-0800
TZNAME:PST
DTSTART:19701101T020000
RRULE:FREQ=YEARLY;BYMONTH=11;BYDAY=1SU
END:STANDARD
END:VTIMEZONE
BEGIN:VEVENT
UID:1464587:Event:661284
DTSTAMP:20260423T072126Z
SUMMARY:Toots and the Maytals (WIN TICKETS)
DESCRIPTION: ENTER TO WIN A PAIR OF TICKETS. WINNER WILL BE DRAWN RAND
 OMLY AND ANNOUNCED 2 DAYS PRIOR TO EVENT.  \n\n Fri, April 14, 2017\
 nThe UC Theatre 1st Anniversary Show\nFeaturing Toots and the Maytals 
 \nLeba\nUC Theatre 2036 University, Berkeley\nDoors: 7:00 pm / Show: 8
 :00 pm\n$30.50\n>> BUY TICKETS\n\n\n\n\nFor more information visit htt
 ps://trueskool.com/events/toots-and-the-maytals-win-tickets
DTSTART;TZID=America/Los_Angeles:20170414T190000
DTEND;TZID=America/Los_Angeles:20170414T230000
CATEGORIES:"bay area", "san francisco"
LOCATION:UC Theatre, Berkeley
WEBSITE:https://www.ticketfly.com/purchase/event/1439205?_ga=1.2289063
 32.1758094193.1491378528
URL:https://www.ticketfly.com/purchase/event/1439205?_ga=1.228906332.1
 758094193.1491378528
CONTACT:
ORGANIZER:UC Theatre
ATTACH;FMTTYPE="image/jpeg":http://storage.ning.com/topology/rest/1.0/
 file/get/2247995815?profile=original
ATTENDEE;ROLE=REQ-PARTICIPANT;PARTSTAT=ACCEPTED;RSVP=TRUE;CN="Tali Ben
 attar":https://trueskool.com/profile/TaliBenattar550
ATTENDEE;ROLE=REQ-PARTICIPANT;PARTSTAT=ACCEPTED;RSVP=TRUE;CN="Ren the 
 Vinyl Archaeologist":https://trueskool.com/profile/xh51jvilojur
END:VEVENT
END:VCALENDAR
