BEGIN:VCALENDAR
PRODID:NingEventWidget-v1
VERSION:2.0
METHOD:PUBLISH
BEGIN:VTIMEZONE
TZID:America/Los_Angeles
X-LIC-LOCATION:America/Los_Angeles
BEGIN:DAYLIGHT
TZOFFSETFROM:-0800
TZOFFSETTO:-0700
TZNAME:PDT
DTSTART:19700308T020000
RRULE:FREQ=YEARLY;BYMONTH=3;BYDAY=2SU
END:DAYLIGHT
BEGIN:STANDARD
TZOFFSETFROM:-0700
TZOFFSETTO:-0800
TZNAME:PST
DTSTART:19701101T020000
RRULE:FREQ=YEARLY;BYMONTH=11;BYDAY=1SU
END:STANDARD
END:VTIMEZONE
BEGIN:VEVENT
UID:1464587:Event:276069
DTSTAMP:20260421T100951Z
SUMMARY:Tony Touch (NYC)
DESCRIPTION:\nTony Touch, Voodoo Ray & Khahim Present Funkbox Nyc Spec
 ial Addition\n\nS.O.B.'s \nNew York, NY\n\n  Wed,    11/27/13 11
 :30 PM\n Find  Tickets \n\n\n\n\nFor more information visit https:/
 /trueskool.com/events/tony-touch-nyc
DTSTART;TZID=America/Los_Angeles:20131127T233000
DTEND;TZID=America/Los_Angeles:20131128T160000
CATEGORIES:nyc
LOCATION:S.O.B.'s, New York
WEBSITE:http://www.ticketweb.com/t3/sale/SaleEventDetail?dispatch=load
 SelectionData&eventId=3914614&REFERRAL_ID=tmfeed&crosssite=TM_US:19367
 04:104
URL:http://www.ticketweb.com/t3/sale/SaleEventDetail?dispatch=loadSele
 ctionData&eventId=3914614&REFERRAL_ID=tmfeed&crosssite=TM_US:1936704:1
 04
CONTACT:
ORGANIZER;CN="Editor's Pick":https://trueskool.com/profile/RentheVinyl
 Archaeologist
ATTACH;FMTTYPE="image/jpeg":http://storage.ning.com/topology/rest/1.0/
 file/get/2247954521?profile=original
ATTENDEE;ROLE=REQ-PARTICIPANT;PARTSTAT=ACCEPTED;RSVP=TRUE;CN="Editor's
  Pick":https://trueskool.com/profile/RentheVinylArchaeologist
END:VEVENT
END:VCALENDAR
