BEGIN:VCALENDAR
PRODID:NingEventWidget-v1
VERSION:2.0
METHOD:PUBLISH
BEGIN:VTIMEZONE
TZID:America/Los_Angeles
X-LIC-LOCATION:America/Los_Angeles
BEGIN:DAYLIGHT
TZOFFSETFROM:-0800
TZOFFSETTO:-0700
TZNAME:PDT
DTSTART:19700308T020000
RRULE:FREQ=YEARLY;BYMONTH=3;BYDAY=2SU
END:DAYLIGHT
BEGIN:STANDARD
TZOFFSETFROM:-0700
TZOFFSETTO:-0800
TZNAME:PST
DTSTART:19701101T020000
RRULE:FREQ=YEARLY;BYMONTH=11;BYDAY=1SU
END:STANDARD
END:VTIMEZONE
BEGIN:VEVENT
UID:1464587:Event:679598
DTSTAMP:20260421T081340Z
SUMMARY:TONY! TONI! TONÉ!
DESCRIPTION:TONY! TONI! TONÉ!\r\nThursday Dec 13, 2018 Doors: 7:30 PM
   Show: 8:00 PM\r\n$34 - $85\r\nThursday Dec 13, 2018 Doors: 9:45 PM  
 Show: 10:00 PM\r\n$34\r\nFriday Dec 14, 2018 Doors: 7:30 PM  Show: 8:0
 0 PM\r\n$39 - $85\r\nFriday Dec 14, 2018 Doors: 9:45 PM  Show: 10:00 P
 M\r\n$39\r\nSaturday Dec 15, 2018 Doors: 7:00 PM  Show: 7:30 PM\r\n$48
  - $85\r\nSaturday Dec 15, 2018 Doors: 9:15 PM  Show: 9:30 PM\r\n$48\r
 \nSunday Dec 16, 2018 Doors: 6:30 PM  Show: 7:00 PM\r\n$39 - $85\r\nSu
 nday Dec 16, 2018 Doors: 8:45 PM  Show: 9:00 PM\r\n$39\r\nYoshi's Oakl
 and 510 Embarcadero West  Oakland, CA\n\nFor more information visit ht
 tps://trueskool.com/events/tony-toni-tone-9
DTSTART;TZID=America/Los_Angeles:20181213T200000
DTEND;TZID=America/Los_Angeles:20181216T230000
CATEGORIES:"bay area", oakland, "san francisco", "san jose", berkeley
LOCATION:Yoshi's, Oakland
WEBSITE:https://www.yoshis.com/calendar/
URL:https://www.yoshis.com/calendar/
CONTACT:
ORGANIZER;CN="Editor's Pick":https://trueskool.com/profile/RentheVinyl
 Archaeologist
ATTACH;FMTTYPE="image/jpeg":http://storage.ning.com/topology/rest/1.0/
 file/get/2248011406?profile=original
ATTENDEE;ROLE=REQ-PARTICIPANT;PARTSTAT=ACCEPTED;RSVP=TRUE;CN="Editor's
  Pick":https://trueskool.com/profile/RentheVinylArchaeologist
END:VEVENT
END:VCALENDAR
