BEGIN:VCALENDAR
PRODID:NingEventWidget-v1
VERSION:2.0
METHOD:PUBLISH
BEGIN:VTIMEZONE
TZID:America/Los_Angeles
X-LIC-LOCATION:America/Los_Angeles
BEGIN:DAYLIGHT
TZOFFSETFROM:-0800
TZOFFSETTO:-0700
TZNAME:PDT
DTSTART:19700308T020000
RRULE:FREQ=YEARLY;BYMONTH=3;BYDAY=2SU
END:DAYLIGHT
BEGIN:STANDARD
TZOFFSETFROM:-0700
TZOFFSETTO:-0800
TZNAME:PST
DTSTART:19701101T020000
RRULE:FREQ=YEARLY;BYMONTH=11;BYDAY=1SU
END:STANDARD
END:VTIMEZONE
BEGIN:VEVENT
UID:1464587:Event:261077
DTSTAMP:20260420T213148Z
SUMMARY:Tony! Toni! Toné!
DESCRIPTION:Tony! Toni! Toné!\nDec 19-Dec 22, 2013\n\nThurday, Decemb
 er 19 8pm & 10pm $34\nFriday, December 20 8pm & 10pm $37\nSaturday, De
 cember 21 7:30pm & 9:30pm $39\nSunday, December 22 7pm & 9pm $34\n\nFo
 r more information visit https://trueskool.com/events/tony-toni-tone-6
DTSTART;TZID=America/Los_Angeles:20131221T213000
DTEND;TZID=America/Los_Angeles:20131221T223000
CATEGORIES:oakland
LOCATION:Yoshi's, Oakland
WEBSITE:http://yoshis.inticketing.com/events/311191/Sat%209:30pm%20-%2
 0TONY!%20TONI!%20TONE!
URL:http://yoshis.inticketing.com/events/311191/Sat%209:30pm%20-%20TON
 Y!%20TONI!%20TONE!
CONTACT:
ORGANIZER;CN="Editor's Pick":https://trueskool.com/profile/RentheVinyl
 Archaeologist
ATTACH;FMTTYPE="image/jpeg":http://storage.ning.com/topology/rest/1.0/
 file/get/2247932172?profile=original
ATTENDEE;ROLE=REQ-PARTICIPANT;PARTSTAT=ACCEPTED;RSVP=TRUE;CN="Tina Byr
 ne":https://trueskool.com/profile/TinaByrne
ATTENDEE;ROLE=REQ-PARTICIPANT;PARTSTAT=ACCEPTED;RSVP=TRUE;CN="Editor's
  Pick":https://trueskool.com/profile/RentheVinylArchaeologist
END:VEVENT
END:VCALENDAR
