BEGIN:VCALENDAR
PRODID:NingEventWidget-v1
VERSION:2.0
METHOD:PUBLISH
BEGIN:VTIMEZONE
TZID:America/Los_Angeles
X-LIC-LOCATION:America/Los_Angeles
BEGIN:DAYLIGHT
TZOFFSETFROM:-0800
TZOFFSETTO:-0700
TZNAME:PDT
DTSTART:19700308T020000
RRULE:FREQ=YEARLY;BYMONTH=3;BYDAY=2SU
END:DAYLIGHT
BEGIN:STANDARD
TZOFFSETFROM:-0700
TZOFFSETTO:-0800
TZNAME:PST
DTSTART:19701101T020000
RRULE:FREQ=YEARLY;BYMONTH=11;BYDAY=1SU
END:STANDARD
END:VTIMEZONE
BEGIN:VEVENT
UID:1464587:Event:654272
DTSTAMP:20260422T032544Z
SUMMARY:Tony! Toni! Tone!
DESCRIPTION:SUN 12.20The Oakland R&B classic act brings their hits to 
 the Yoshi's stage\nTONY! TONI! TONÉ!DOORS: 6:30 PM / SHOW: 7:00 PM\n\
 nFor more information visit https://trueskool.com/events/tony-toni-ton
 e-4
DTSTART;TZID=America/Los_Angeles:20161220T190000
DTEND;TZID=America/Los_Angeles:20161220T220000
CATEGORIES:"san francisco", oakland, berkley, "san jose", "bay area"
LOCATION:Yoshi's, Oakland
WEBSITE:http://www.yoshis.com/event/903783-tony-toni-tone-oakland/
URL:http://www.yoshis.com/event/903783-tony-toni-tone-oakland/
CONTACT:
ORGANIZER;CN="Editor's Pick":https://trueskool.com/profile/RentheVinyl
 Archaeologist
ATTACH;FMTTYPE="image/jpeg":http://storage.ning.com/topology/rest/1.0/
 file/get/2247991733?profile=original
ATTENDEE;ROLE=REQ-PARTICIPANT;PARTSTAT=ACCEPTED;RSVP=TRUE;CN="Editor's
  Pick":https://trueskool.com/profile/RentheVinylArchaeologist
END:VEVENT
END:VCALENDAR
